BEGIN:VCALENDAR
VERSION:2.0
PRODID:-//ChamberMaster//Event Calendar 2.0//EN
METHOD:PUBLISH
X-PUBLISHED-TTL:P3D
REFRESH-INTERVAL:P3D
CALSCALE:GREGORIAN
BEGIN:VEVENT
DTSTART;VALUE=DATE:20150119
DTEND;VALUE=DATE:20150120
TRANSP:TRANSPARENT
X-MICROSOFT-CDO-ALLDAYEVENT:TRUE
SUMMARY:Lakeview Chamber Office CLOSED
DESCRIPTION:The Lakeview Chamber of Commerce Office will be closed on Monday\, January 19th for Martin Luther King\, Jr. Day.
X-ALT-DESC;FMTTYPE=text/html:The Lakeview Chamber of Commerce Office will be closed on Monday\, January 19th for Martin Luther King\, Jr. Day.
LOCATION:
UID:e.1819.1492
SEQUENCE:3
DTSTAMP:20260423T171952Z
URL:https://members.lakeviewroscoevillage.org/events/details/lakeview-chamber-office-closed-01-19-2015-1492
END:VEVENT

END:VCALENDAR
