BEGIN:VCALENDAR
VERSION:2.0
PRODID:-//ChamberMaster//Event Calendar 2.0//EN
METHOD:PUBLISH
X-PUBLISHED-TTL:P3D
REFRESH-INTERVAL:P3D
CALSCALE:GREGORIAN
BEGIN:VEVENT
DTSTART:20170726T223000Z
DTEND:20170727T013000Z
X-MICROSOFT-CDO-ALLDAYEVENT:FALSE
SUMMARY:Lakeview Live! Concerts on the Curb
DESCRIPTION:The Lakeview Chamber of Commerce\, together with its partners\, presents an exciting event series that will showcase the sounds of Chicago's talented musicians and celebrate our beloved Lakeview businesses and community. On Wednesday evenings (July through August)\, Lakeview Live will transform the corner of Paulina and Lincoln Ave into 9 evenings of fun! Attendees will enjoy live music\, local food\, craft beer\, and family-friendly activities. The series is free and open to people of all ages!
X-ALT-DESC;FMTTYPE=text/html:<span style="font-size:14px\;"><span style="font-family: Arial\, &quot\;Helvetica Neue&quot\;\, Helvetica\, sans-serif\;">The Lakeview Chamber of Commerce\, together with its partners\, presents an exciting event series that will showcase the sounds of Chicago&rsquo\;s talented musicians and celebrate our beloved Lakeview businesses and community. On Wednesday evenings (July through August)\, Lakeview Live will transform the corner of Paulina and Lincoln Ave into 9 evenings of fun! Attendees will enjoy live music\, local food\, craft beer\, and family-friendly activities. The series is free and open to people of all ages!</span></span>
LOCATION:Paulina Avenue between Roscoe and Henderson 3338 N Pauina St
UID:e.1819.5212
SEQUENCE:3
DTSTAMP:20260419T124012Z
URL:https://members.lakeviewroscoevillage.org/events/details/lakeview-live-concerts-on-the-curb-07-26-2017-5212
END:VEVENT

END:VCALENDAR
