BEGIN:VCALENDAR
VERSION:2.0
PRODID:-//ChamberMaster//Event Calendar 2.0//EN
METHOD:PUBLISH
X-PUBLISHED-TTL:P3D
REFRESH-INTERVAL:P3D
CALSCALE:GREGORIAN
BEGIN:VEVENT
DTSTART:20160820T233000Z
DTEND:20160821T033000Z
X-MICROSOFT-CDO-ALLDAYEVENT:FALSE
SUMMARY:"Let's Dance" Fundraiser
DESCRIPTION:Let's Dance - Like we did back then fundraiser dance. All proceeds raised from the event benefit the St. Benedict Parish Educational Endowment Fund.
X-ALT-DESC;FMTTYPE=text/html:Let&#39\;s Dance - Like we did back then fundraiser dance. All proceeds raised from the event benefit the St. Benedict Parish Educational Endowment Fund.
LOCATION:St. Benedict Gymnasium 3941 N Bell Avenue\, Chicago
UID:e.1819.3509
SEQUENCE:3
DTSTAMP:20260422T074550Z
URL:https://members.lakeviewroscoevillage.org/events/details/let-s-dance-fundraiser-08-20-2016-3509
END:VEVENT

END:VCALENDAR
