BEGIN:VCALENDAR
VERSION:2.0
PRODID:-//ChamberMaster//Event Calendar 2.0//EN
METHOD:PUBLISH
X-PUBLISHED-TTL:P3D
REFRESH-INTERVAL:P3D
CALSCALE:GREGORIAN
BEGIN:VEVENT
DTSTART:20150425T140000Z
DTEND:20150425T170000Z
X-MICROSOFT-CDO-ALLDAYEVENT:FALSE
SUMMARY:Let the Brains from Northwestern University Supercharge You!
DESCRIPTION:Let the Brains from Northwestern University Supercharge You and Your Family's Brains - for Free!\n\n \n\nThe brain scientists from Northwestern University Brain Awareness Outreach (NUBAO) will be holding their 5th Annual Brain Awareness Fair at Lake View High School on Saturday\, April 25th\, 2015 - another mind-blowing\, experiment-packed opportunity for you and your kids to learn all about how the brain works! This free event fills up every year\, so register now - you'll control a Lego robot with brain-derived signals\, experience and learn about the effect of bizarre optical illusions on your mind\, take a look at your own brain waves\, and much more.  \n\n \n\nActivities are designed for kids of all ages\, and your family will be learning one-on-one with enthusiastic Northwestern neuroscience graduate students\, staff and faculty. Kids and teens must be accompanied by a parent or chaperone (so you'll be learning right along!). \n\n \n\nRegister today at http://www.nubrainawareness.com/#!20154-brain-awareness-fair/cbth - the event always fills up fast\, so if you register\, please be sure you can make it (there are other brains that want to get off the wait list!). Questions? Contact NUBAO at nubrainawareness@gmail.com.
X-ALT-DESC;FMTTYPE=text/html:<span style="color:rgb(0\, 0\, 0)\; font-family:helvetica\; font-size:14px"><strong>Let the Brains from Northwestern University Supercharge You and Your Family&#39\;s Brains - for Free!</strong></span>\n\n<div>&nbsp\;</div>\n\n<div><span style="font-size:14px">The brain scientists from&nbsp\;<span style="color:rgb(83\, 91\, 88)">Northwestern University Brain Awareness Outreach (NUBAO) will be holding their 5th Annual Brain Awareness Fair at Lake View High School on Saturday\,&nbsp\;April 25th\, 2015&nbsp\;- another mind-blowing\, experiment-packed opportunity for you and your kids to learn all about how the brain works! This free event fills up every year\, so register now - you&#39\;ll control a Lego robot with brain-derived signals\, experience and learn about the effect of bizarre optical illusions on your mind\, take a look at your own brain waves\, and much more.&nbsp\; </span></span></div>\n\n<div>&nbsp\;</div>\n\n<div>Activities are designed for kids of all ages\, and your family will be learning one-on-one with enthusiastic Northwestern neuroscience graduate students\, staff and faculty. Kids and teens must be accompanied by a parent or chaperone (so you&#39\;ll be learning right along!).&nbsp\;</div>\n\n<div>&nbsp\;</div>\n\n<div><span style="font-size:14px">Register today at&nbsp\;<a href="http://www.nubrainawareness.com/#!20154-brain-awareness-fair/cbth" style="color: rgb(17\, 85\, 204)\;" target="_blank">http://www.nubrainawareness.com/#!20154-brain-awareness-fair/cbth</a>&nbsp\;- the event always fills up fast\, so if you register\, please be sure you can make it (there are other brains that want to get off the wait list!). Questions? Contact NUBAO at&nbsp\;<a href="mailto:nubrainawareness@gmail.com">nubrainawareness@gmail.com</a>.</span></div>\n
LOCATION:Lakeview High School - 4015 N. Ashland Ave.
UID:e.1819.1551
SEQUENCE:3
DTSTAMP:20260423T114739Z
URL:https://members.lakeviewroscoevillage.org/events/details/let-the-brains-from-northwestern-university-supercharge-you-04-25-2015-1551
END:VEVENT

END:VCALENDAR
