BEGIN:VCALENDAR
VERSION:2.0
PRODID:-//ChamberMaster//Event Calendar 2.0//EN
METHOD:PUBLISH
X-PUBLISHED-TTL:P3D
REFRESH-INTERVAL:P3D
CALSCALE:GREGORIAN
BEGIN:VEVENT
DTSTART:20140626T230000Z
DTEND:20140627T010000Z
X-MICROSOFT-CDO-ALLDAYEVENT:FALSE
SUMMARY:Light up the Night- Help with Flyers
DESCRIPTION:CAPS and Alderman Tom Tunney are looking for volunteers on the evening of June 26th to distribute Light up the Night fliers door to door in the 44th Ward. \n\n\n\nIf interested\, meet in the lobby of the 19th District Police Station\, 850 West Addison at 6:00 PM.\n\n\n\nNo need to RSVP just show up. Your help and support of this campaign is appreciated.
X-ALT-DESC;FMTTYPE=text/html:<strong><span style="background-image:initial\;background-attachment:initial\;background-size:initial\;background-origin:initial\;background-clip:initial\;background-position:initial\;background-repeat:initial\;"><span style="color:#1f497d\;"><span style="font-size:11.5pt\;">CAPS and Alderman Tom Tunney are looking for volunteers on the evening of June 26<sup>th</sup>&nbsp\;to distribute Light up the Night fliers door to door in the 44<sup>th</sup> Ward.&nbsp\;<br />\n<br />\nIf interested\, meet in the lobby of the 19<sup>th</sup> District Police Station\, 850 West Addison at 6:00 PM.<br />\n<br />\nNo need to RSVP&hellip\;just show up. Your help and support of this campaign is appreciated. &nbsp\;&nbsp\;</span></span></span></strong><br />\n<br />\n&nbsp\;
LOCATION:19th District Police Station 850 West Addison
UID:e.1819.327
SEQUENCE:3
DTSTAMP:20260424T073628Z
URL:https://members.lakeviewroscoevillage.org/events/details/light-up-the-night-help-with-flyers-06-26-2014-327
END:VEVENT

END:VCALENDAR
