BEGIN:VCALENDAR
VERSION:2.0
PRODID:-//ChamberMaster//Event Calendar 2.0//EN
METHOD:PUBLISH
X-PUBLISHED-TTL:P3D
REFRESH-INTERVAL:P3D
CALSCALE:GREGORIAN
BEGIN:VEVENT
DTSTART;VALUE=DATE:20140906
DTEND;VALUE=DATE:20140922
TRANSP:TRANSPARENT
X-MICROSOFT-CDO-ALLDAYEVENT:TRUE
SUMMARY:Lincoln Avenue Circus Walk
DESCRIPTION:The  # LincolnAveCircusWalk  is a whimsical installation of circus themed cutouts placed along Lincoln Avenue in Lakeview between Belmont and Addison. Take your photos and use the hash tag #LincolnAveCircusWalk. We'll be tracking your posts!
X-ALT-DESC;FMTTYPE=text/html:<span style="color:rgb(20\,24\,35)\;font-family:Helvetica\,Arial\,'lucida grande'\,tahoma\,verdana\,arial\,sans-serif\;font-size:14px\;line-height:19.31999969482422px">The&nbsp\;</span><a href="https://www.facebook.com/hashtag/lincolnavecircuswalk?source=feed_text&amp\;story_id=285022875015205" style="color:rgb(59\,89\,152)\;text-decoration:none\;font-family:Helvetica\,Arial\,'lucida grande'\,tahoma\,verdana\,arial\,sans-serif\;font-size:14px\;line-height:19.31999969482422px" target="_blank"><span style="color:rgb(109\,132\,180)">&#8234\;#</span><span style="color:rgb(109\,132\,180)">&lrm\;</span><span>LincolnAveCircusWalk&#8236\;</span></a><span style="color:rgb(20\,24\,35)\;font-family:Helvetica\,Arial\,'lucida grande'\,tahoma\,verdana\,arial\,sans-serif\;font-size:14px\;line-height:19.31999969482422px">&nbsp\;<wbr />is a whimsical installation of circus themed cutouts placed along Lincoln Avenue in Lakeview between Belmont and Addison. Take your photos and use the hash tag #LincolnAveCircusWalk. We&#39\;ll be tracking your posts!</span>
LOCATION:On Lincoln Avenue between Belmont and Addison
UID:e.1819.355
SEQUENCE:3
DTSTAMP:20260424T002640Z
URL:https://members.lakeviewroscoevillage.org/events/details/lincoln-avenue-circus-walk-09-06-2014-355
END:VEVENT

END:VCALENDAR
