BEGIN:VCALENDAR
VERSION:2.0
PRODID:-//ChamberMaster//Event Calendar 2.0//EN
METHOD:PUBLISH
X-PUBLISHED-TTL:P3D
REFRESH-INTERVAL:P3D
CALSCALE:GREGORIAN
BEGIN:VEVENT
DTSTART:20140528T230000Z
DTEND:20140529T003000Z
X-MICROSOFT-CDO-ALLDAYEVENT:FALSE
SUMMARY:Lincoln Avenue Placemaking Project Open House
DESCRIPTION:The Lakeview Chamber of Commerce and SSA 27 are hosting a public open house meeting to share plans for a placemaking project that seeks to make Lincoln Avenue between Diversey and Belmont a more attractive place to visit and do business. Please stop by any time during the open house to learn more about plans for new landscaping\, seating and pedestrian improvements.
X-ALT-DESC;FMTTYPE=text/html:The Lakeview Chamber of Commerce and SSA 27 are hosting a public open house meeting to share plans for a placemaking project that seeks to make Lincoln Avenue between Diversey and Belmont a more attractive place to visit and do business. Please stop by any time during the open house to learn more about plans for new landscaping\, seating and pedestrian improvements.
LOCATION:Heritage Littles\, 2868 N. Lincoln Ave.\, Chicago\, IL
UID:e.1819.289
SEQUENCE:3
DTSTAMP:20260424T121258Z
URL:https://members.lakeviewroscoevillage.org/events/details/lincoln-avenue-placemaking-project-open-house-05-28-2014-289
END:VEVENT

END:VCALENDAR
