BEGIN:VCALENDAR
VERSION:2.0
PRODID:-//ChamberMaster//Event Calendar 2.0//EN
METHOD:PUBLISH
X-PUBLISHED-TTL:P3D
REFRESH-INTERVAL:P3D
CALSCALE:GREGORIAN
BEGIN:VEVENT
DTSTART:20150925T221500Z
DTEND:20150926T003000Z
X-MICROSOFT-CDO-ALLDAYEVENT:FALSE
SUMMARY:Lionheart Financial Oktoberfest Happy Hour
DESCRIPTION:Lionheart Financial\n\nAnnual Okotberfest Happy Hour\n\n\n\nEnjoy samples of a few or our favorite Oktoberfest snacks and drinks
X-ALT-DESC;FMTTYPE=text/html:Lionheart&nbsp\;Financial<br />\nAnnual Okotberfest Happy Hour<br />\n<br />\nEnjoy samples of a few or our favorite Oktoberfest snacks and drinks
LOCATION:2919 N Southport Ave
UID:e.1819.1819
SEQUENCE:3
DTSTAMP:20260423T021308Z
URL:https://members.lakeviewroscoevillage.org/events/details/lionheart-financial-oktoberfest-happy-hour-09-25-2015-1819
END:VEVENT

END:VCALENDAR
