BEGIN:VCALENDAR
VERSION:2.0
PRODID:-//ChamberMaster//Event Calendar 2.0//EN
METHOD:PUBLISH
X-PUBLISHED-TTL:P3D
REFRESH-INTERVAL:P3D
CALSCALE:GREGORIAN
BEGIN:VEVENT
DTSTART:20131003T223000Z
DTEND:20131004T003000Z
X-MICROSOFT-CDO-ALLDAYEVENT:FALSE
SUMMARY:Lionheart Financial Ribbon Cutting & Employment Open House
DESCRIPTION:Please join us in this very special ribbon cutting event with the Lakeview Chamber of Commerce.\n\n  \n\nWe now have a second location in Chicago to better serve our clients.  Please stop by\, take a look and enjoy cocktails and appetizers.  \n\n	We're Hiring: Lionheart Financial Ltd. is seeking a Lead Financial Advisor.  Minimum 3-5 years experience required.  Series 7 and 66 preferred. Please email resume to donnah@lionheartfinancialltd.com We'd love to meet you during our open house event to tell you more about our company!\n\n	\n\n	 \n\n	Adam Griffiths\n\n	Bill McSherry\n\n	Lee J. Kaz\n\n	Julie Rodriguez\n\n	Andy Mau
X-ALT-DESC;FMTTYPE=text/html:<span style="font-size: 10pt\;"><span style="font-family: trebuchet ms\,sans-serif\;"><span style="font-size: 10pt\;"><span style="font-family: trebuchet ms\,sans-serif\;">Please join us in this very special ribbon cutting event with the Lakeview Chamber of Commerce.</span></span><br />\n&nbsp\;&nbsp\;<br />\n<span style="font-size: 10pt\;"><span style="font-family: trebuchet ms\,sans-serif\;">We now have a second location in Chicago to better serve our clients.&nbsp\; Please stop by\, take&nbsp\;a look and enjoy cocktails and appetizers.&nbsp\; </span></span></span></span>\n<p>\n	<span style="font-size: 10pt\;"><span style="font-family: trebuchet ms\,sans-serif\;"><span style="font-size: 10pt\;"><span style="font-family: trebuchet ms\,sans-serif\;"><strong>We&#39\;re Hiring:</strong> Lionheart Financial Ltd. is seeking a Lead Financial Advisor.&nbsp\; Minimum 3-5 years experience required.&nbsp\; Series 7 and 66 preferred. Please email resume to donnah@lionheartfinancialltd.com&nbsp\;We&#39\;d love to meet you during our open house event to tell you more about our company!</span></span></span></span><br />\n	<br />\n	&nbsp\;</p>\n<p>\n	<span style="font-size: 10pt\;"><span style="font-family: trebuchet ms\,sans-serif\;"><strong><span style="font-size: 10pt\;"><span style="font-family: trebuchet ms\,sans-serif\;">Adam Griffiths<br />\n	Bill McSherry</span></span></strong><br />\n	<strong><span style="font-size: 10pt\;"><span style="font-family: trebuchet ms\,sans-serif\;">Lee J. Kaz</span></span></strong><br />\n	<strong><span style="font-size: 10pt\;"><span style="font-family: trebuchet ms\,sans-serif\;">Julie Rodriguez</span></span></strong><br />\n	<strong><span style="font-size: 10pt\;"><span style="font-family: trebuchet ms\,sans-serif\;">Andy Mau</span></span></strong></span></span><br />\n	&nbsp\;</p>\n<p>\n	<span style="font-size: 10pt\;">&nbsp\;</span></p>\n<p>\n	<br />\n	&nbsp\;</p>\n
LOCATION:2919 N. Southport
UID:e.1819.66
SEQUENCE:3
DTSTAMP:20260424T224841Z
URL:https://members.lakeviewroscoevillage.org/events/details/lionheart-financial-ribbon-cutting-employment-open-house-10-03-2013-66
END:VEVENT

END:VCALENDAR
