BEGIN:VCALENDAR
VERSION:2.0
PRODID:-//ChamberMaster//Event Calendar 2.0//EN
METHOD:PUBLISH
X-PUBLISHED-TTL:P3D
REFRESH-INTERVAL:P3D
CALSCALE:GREGORIAN
BEGIN:VEVENT
DTSTART:20140502T010000Z
DTEND:20140502T040000Z
X-MICROSOFT-CDO-ALLDAYEVENT:FALSE
SUMMARY:Live Band Karaoke at JP Burkes
DESCRIPTION:Join us Every Thursday Night for Live Band Karaoke!  You be the Rock Star!
X-ALT-DESC;FMTTYPE=text/html:Join us Every Thursday Night for Live Band Karaoke!&nbsp\; You be the Rock Star!
LOCATION:JP Burkes Patio & Tap
UID:e.1819.272
SEQUENCE:3
DTSTAMP:20260424T095636Z
URL:https://members.lakeviewroscoevillage.org/events/details/live-band-karaoke-at-jp-burkes-05-01-2014-272
END:VEVENT

END:VCALENDAR
