BEGIN:VCALENDAR
VERSION:2.0
PRODID:-//ChamberMaster//Event Calendar 2.0//EN
METHOD:PUBLISH
X-PUBLISHED-TTL:P3D
REFRESH-INTERVAL:P3D
CALSCALE:GREGORIAN
BEGIN:VEVENT
DTSTART:20170117T140000Z
DTEND:20170117T153000Z
X-MICROSOFT-CDO-ALLDAYEVENT:FALSE
SUMMARY:Low-Line Committee Meeting
DESCRIPTION:
X-ALT-DESC;FMTTYPE=text/html:
LOCATION:Lakeview Chamber of Commerce 1409 W. Addison St.
UID:e.1819.4921
SEQUENCE:3
DTSTAMP:20260420T032521Z
URL:https://members.lakeviewroscoevillage.org/events/details/low-line-committee-meeting-01-17-2017-4921
END:VEVENT

END:VCALENDAR
