BEGIN:VCALENDAR
VERSION:2.0
PRODID:-//ChamberMaster//Event Calendar 2.0//EN
METHOD:PUBLISH
X-PUBLISHED-TTL:P3D
REFRESH-INTERVAL:P3D
CALSCALE:GREGORIAN
BEGIN:VEVENT
DTSTART:20170426T230000Z
DTEND:20170427T000000Z
X-MICROSOFT-CDO-ALLDAYEVENT:FALSE
SUMMARY:Low-Line Committee Meeting
DESCRIPTION:
X-ALT-DESC;FMTTYPE=text/html:
LOCATION:Lakeview Chamber of Commerce 1409 W. Addison St.
UID:e.1819.5019
SEQUENCE:3
DTSTAMP:20260419T235546Z
URL:https://members.lakeviewroscoevillage.org/events/details/low-line-committee-meeting-04-26-2017-5019
END:VEVENT

END:VCALENDAR
