BEGIN:VCALENDAR
VERSION:2.0
PRODID:-//ChamberMaster//Event Calendar 2.0//EN
METHOD:PUBLISH
X-PUBLISHED-TTL:P3D
REFRESH-INTERVAL:P3D
CALSCALE:GREGORIAN
BEGIN:VEVENT
DTSTART:20170328T230000Z
DTEND:20170329T010000Z
X-MICROSOFT-CDO-ALLDAYEVENT:FALSE
SUMMARY:Low-Line Community Meeting
DESCRIPTION:The Lakeview Chamber of Commerce and Special Service Area (SSA) 27 invite community members to participate in a discussion about the future of the Low-Line\, a one-of-a-kind project that would connect Southport Ave. and Paulina St. with a continuous\, half-mile long walkway and garden beneath the CTA 'L' tracks. SSA 27 has partnered with PORT\, a leading-edge design consultancy\, to identify potential uses for new Low-Line spaces at Ashland and Paulina. The project team will present on existing site conditions and share precedent images from other cities to gather community input before developing their designs.\n\n\n\nThe community meeting is open to all members of the public. Please RSVP at www.lakeviewchamber.com/lowlinevision so we know how many participants will be attending.
X-ALT-DESC;FMTTYPE=text/html:The Lakeview Chamber of Commerce and Special Service Area (SSA) 27 invite community members to participate in a discussion about the future of the Low-Line\, a one-of-a-kind project that would connect Southport Ave. and Paulina St. with a continuous\, half-mile long walkway and garden beneath the CTA &lsquo\;L&rsquo\; tracks. SSA 27 has partnered with PORT\, a leading-edge design consultancy\, to identify potential uses for new Low-Line spaces at Ashland and Paulina. The project team will present on existing site conditions and share precedent images from other cities to gather community input before developing their designs.<br />\n<br />\nThe community meeting is open to all members of the public. Please RSVP at <a href="http://www.lakeviewchamber.com/lowlinevision">www.lakeviewchamber.com/lowlinevision</a> so we know how many participants will be attending.
LOCATION:Lincoln Belmont Library 1659 W. Melrose St.
UID:e.1819.5003
SEQUENCE:3
DTSTAMP:20260419T235507Z
URL:https://members.lakeviewroscoevillage.org/events/details/low-line-community-meeting-03-28-2017-5003
END:VEVENT

END:VCALENDAR
