BEGIN:VCALENDAR
VERSION:2.0
PRODID:-//ChamberMaster//Event Calendar 2.0//EN
METHOD:PUBLISH
X-PUBLISHED-TTL:P3D
REFRESH-INTERVAL:P3D
CALSCALE:GREGORIAN
BEGIN:VEVENT
DTSTART:20130930T170000Z
DTEND:20130930T190000Z
X-MICROSOFT-CDO-ALLDAYEVENT:FALSE
SUMMARY:Luncheon Featuring Chinese Consul General Zhau Weiping
DESCRIPTION:The Chicago Chinatown Chamber of Commerce would like to invite you to our speaking luncheon featuring US-China Trade Relations and the impact on small businesses by the Consul General of the People's Republic of China.\n\n\n\nFlyer
X-ALT-DESC;FMTTYPE=text/html:The Chicago Chinatown Chamber of Commerce would like to invite you to our speaking luncheon featuring US-China Trade Relations and the impact on small businesses by the Consul General of the People&#39\;s Republic of China.<br />\n<br />\n<a href="http://cloud.chambermaster.com/userfiles/UserFiles/chambers/1819/File/ConsulGeneralLuncheonFlyer.pdf">Flyer</a>
LOCATION:Cai Restaurant 2168 South Archer Avenue Chicago
UID:e.1819.87
SEQUENCE:3
DTSTAMP:20260425T004316Z
URL:https://members.lakeviewroscoevillage.org/events/details/luncheon-featuring-chinese-consul-general-zhau-weiping-09-30-2013-87
END:VEVENT

END:VCALENDAR
