BEGIN:VCALENDAR
VERSION:2.0
PRODID:-//ChamberMaster//Event Calendar 2.0//EN
METHOD:PUBLISH
X-PUBLISHED-TTL:P3D
REFRESH-INTERVAL:P3D
CALSCALE:GREGORIAN
BEGIN:VEVENT
DTSTART:20160924T150000Z
DTEND:20160925T220000Z
X-MICROSOFT-CDO-ALLDAYEVENT:FALSE
SUMMARY:M2 Celebrates 10 Years
DESCRIPTION:M2 Boutique\, is set to celebrate a decade of business September 24- 25th with a weekend full of festivities\, including giveaways\, discounts\, and libations\, while customers shop Fall's hottest trends! Customer's will also get the first look at a the boutique's "new look" as they roll -out an extensive rebrand. Weekend- long discounts will include an assortment of surprise hourly deals\, allowing lucky customers the opportunity to score up to 40% off of their purchases. Giveaways will include leather handbags by Latico\, monogramed jewelry from Moon & Lola\, gift cards\, and more. Libations from Sweet Mandy B's will also be on -hand\, in addition to a variety of other complimentary libations.
X-ALT-DESC;FMTTYPE=text/html:M2 Boutique\, is set to celebrate a decade of business September 24-&shy\;25th with a weekend full of festivities\, including giveaways\, discounts\, and libations\, while customers shop Fall&rsquo\;s hottest trends! Customer&rsquo\;s will also get the first look at a the boutique&rsquo\;s &ldquo\;new look&rdquo\; as they roll&shy\;-out an extensive rebrand. Weekend-&shy\;long discounts will include an assortment of surprise hourly deals\, allowing lucky customers the opportunity to score up to 40% off of their purchases. Giveaways will include leather handbags by Latico\, monogramed jewelry from Moon &amp\; Lola\, gift cards\, and more. Libations from Sweet Mandy B&rsquo\;s will also be on&shy\;-hand\, in addition to a variety of other complimentary libations.
LOCATION:M2 Boutique 3527 N. Southport Ave
UID:e.1819.3607
SEQUENCE:3
DTSTAMP:20260422T061503Z
URL:https://members.lakeviewroscoevillage.org/events/details/m2-celebrates-10-years-09-24-2016-3607
END:VEVENT

END:VCALENDAR
