BEGIN:VCALENDAR
VERSION:2.0
PRODID:-//ChamberMaster//Event Calendar 2.0//EN
METHOD:PUBLISH
X-PUBLISHED-TTL:P3D
REFRESH-INTERVAL:P3D
CALSCALE:GREGORIAN
BEGIN:VEVENT
DTSTART:20140116T000000Z
DTEND:20140116T013000Z
X-MICROSOFT-CDO-ALLDAYEVENT:FALSE
SUMMARY:Magic Show
DESCRIPTION:Mr Ash - Magic Show
X-ALT-DESC;FMTTYPE=text/html:Mr Ash - Magic Show
LOCATION:Southport & Irving
UID:e.1819.173
SEQUENCE:3
DTSTAMP:20260424T172518Z
URL:https://members.lakeviewroscoevillage.org/events/details/magic-show-01-15-2014-173
END:VEVENT

END:VCALENDAR
