BEGIN:VCALENDAR
VERSION:2.0
PRODID:-//ChamberMaster//Event Calendar 2.0//EN
METHOD:PUBLISH
X-PUBLISHED-TTL:P3D
REFRESH-INTERVAL:P3D
CALSCALE:GREGORIAN
BEGIN:VEVENT
DTSTART:20160507T150000Z
DTEND:20160507T190000Z
X-MICROSOFT-CDO-ALLDAYEVENT:FALSE
SUMMARY:Make Mom's Bouquet - Kids' Mother's Day Event
DESCRIPTION:You're going to make Mom's Day by letting your kids MAKE MOM'S BOUQUET! 3118 N. Lincoln Avenue\, Chicago *Learn where our flowers come from *Choose from 4 different bouquet sizes (starting at only $20!) *Let your kids select the blooms & put it together *Make your own free card - all supplies included *Decorate your bouquet with fun accents! *Enjoy treats and balloons and a fun\, energetic staff! Make a fun\, personal bouquet for Mom\, Grandma\, your favorite sitter or friends!
X-ALT-DESC;FMTTYPE=text/html:You&#39\;re going to make Mom&#39\;s Day by letting your kids MAKE MOM&#39\;S BOUQUET! 3118 N. Lincoln Avenue\, Chicago *Learn where our flowers come from *Choose from 4 different bouquet sizes (starting at only $20!) *Let your kids select the blooms &amp\; put it together *Make your own free card - all supplies included *Decorate your bouquet with fun accents! *Enjoy treats and balloons and a fun\, energetic staff! Make a fun\, personal bouquet for Mom\, Grandma\, your favorite sitter or friends!
LOCATION:Ashland Addison Florist 3118 North Lincoln Ave Chicago\, IL 60657
UID:e.1819.2898
SEQUENCE:3
DTSTAMP:20260422T115047Z
URL:https://members.lakeviewroscoevillage.org/events/details/make-mom-s-bouquet-kids-mother-s-day-event-05-07-2016-2898
END:VEVENT

END:VCALENDAR
