BEGIN:VCALENDAR
VERSION:2.0
PRODID:-//ChamberMaster//Event Calendar 2.0//EN
METHOD:PUBLISH
X-PUBLISHED-TTL:P3D
REFRESH-INTERVAL:P3D
CALSCALE:GREGORIAN
BEGIN:VEVENT
DTSTART:20150708T133000Z
DTEND:20150708T143000Z
X-MICROSOFT-CDO-ALLDAYEVENT:FALSE
SUMMARY:Mamas who Move
DESCRIPTION:Join us at Lol  Southport Chicago and spend time with other moms on the Southport Corridor\, getting fit and learning healthy yet practical tips that fit your life! Bring your tiny training partner and share with them the joy of fitness while getting your morning endorphin fix! Chicago area personal trainer and Lol  ambassador\, Samantha Kellgren\, will lead the group through bodyweight strength training exercises as you interact with your mini-me. As an ACSM certified personal trainer and RRCA certified running coach\, Samantha works with a variety of women in Chicago and is thrilled to share tips and tricks to help keep you on track and feeling strong. This is a complimentary class and all participants will receive 20% off the Spring/Summer 2015 Collection.
X-ALT-DESC;FMTTYPE=text/html:Join us at Lol&euml\; Southport Chicago and spend time with other moms on the Southport Corridor\, getting fit and learning healthy yet practical tips that fit your life! Bring your tiny training partner and share with them the joy of fitness while getting your morning endorphin fix! Chicago area personal trainer and Lol&euml\; ambassador\, Samantha Kellgren\, will lead the group through bodyweight strength training exercises as you interact with your mini-me. As an ACSM certified personal trainer and RRCA certified running coach\, Samantha works with a variety of women in Chicago and is thrilled to share tips and tricks to help keep you on track and feeling strong. This is a complimentary class and all participants will receive 20% off the Spring/Summer 2015 Collection.
LOCATION:Lol 3434 N Southport Chicago\, IL 60657
UID:e.1819.1781
SEQUENCE:3
DTSTAMP:20260423T055813Z
URL:https://members.lakeviewroscoevillage.org/events/details/mamas-who-move-07-08-2015-1781
END:VEVENT

END:VCALENDAR
