BEGIN:VCALENDAR
VERSION:2.0
PRODID:-//ChamberMaster//Event Calendar 2.0//EN
METHOD:PUBLISH
X-PUBLISHED-TTL:P3D
REFRESH-INTERVAL:P3D
CALSCALE:GREGORIAN
BEGIN:VEVENT
DTSTART:20170311T193000Z
DTEND:20170311T233000Z
X-MICROSOFT-CDO-ALLDAYEVENT:FALSE
SUMMARY:March 12-Hour Self-Defense Intensive Course
DESCRIPTION:This in-depth course is 12 hours over three Saturdays. Each day\, students have the opportunity to practice physical skills\, awareness skills\, verbal skills\, and social skills that will enhance their safety in a variety of situations. We use the Five Fingers of Self-Defense (Think\, Yell\, Run\, Fight\, and Tell) to teach people how to accurately assess their risk and respond to violence before it escalates\, while also teaching physical techniques to defend against direct physical and sexual assault. Classes are a mix of group discussion\, role plays\, and physical drills and activities. Our goal is to reduce both the prevalence and the harm of violence. Open to adults and teens 15 and up.
X-ALT-DESC;FMTTYPE=text/html:<span style="background-color:transparent\; color:rgb(0\, 0\, 0)\; font-family:calibri\; font-size:11pt">This in-depth course is 12 hours over three Saturdays. Each day\, students have the opportunity to practice physical skills\, awareness skills\, verbal skills\, and social skills that will enhance their safety in a variety of situations. We use the Five Fingers of Self-Defense (Think\, Yell\, Run\, Fight\, and Tell) to teach people how to accurately assess their risk and respond to violence before it escalates\, while also teaching physical techniques to defend against direct physical and sexual assault. Classes are a mix of group discussion\, role plays\, and physical drills and activities. Our goal is to reduce both the prevalence and the harm of violence. Open to adults and teens 15 and up.</span>
LOCATION:Thousand Waves Martial Arts & Self Defense Center\, NFP 1220 W Belmont Chicago\, IL 60657
UID:e.1819.4993
SEQUENCE:3
DTSTAMP:20260420T013144Z
URL:https://members.lakeviewroscoevillage.org/events/details/march-12-hour-self-defense-intensive-course-03-11-2017-4993
END:VEVENT

END:VCALENDAR
