BEGIN:VCALENDAR
VERSION:2.0
PRODID:-//ChamberMaster//Event Calendar 2.0//EN
METHOD:PUBLISH
X-PUBLISHED-TTL:P3D
REFRESH-INTERVAL:P3D
CALSCALE:GREGORIAN
BEGIN:VEVENT
DTSTART:20140304T210000Z
DTEND:20140305T070000Z
X-MICROSOFT-CDO-ALLDAYEVENT:FALSE
SUMMARY:Mardi Gras Specials at Newport Bar and Grill
DESCRIPTION:Newport Bar and Grill invites Chicagoans to celebrate Fat Tuesday with themed food and drink specials including $4 Abita Mardi Gras Bock\, $4 Abita Purple Haze\, and $3 Fireball shots.\n\n\n\nFood specials include $5 Jambalaya and $6 Burger and fries.\n\n\n\nCajun\, Brass Bands and Zydeco themed music will be played to get customers in the Mardi Gras spirit. Abita Brewing Co. swag and Mardi Gras beads will be given away while supplies last.
X-ALT-DESC;FMTTYPE=text/html:Newport Bar and Grill invites Chicagoans to celebrate Fat Tuesday with themed food and drink specials including $4 Abita Mardi Gras Bock\, $4 Abita Purple Haze\, and $3 Fireball shots.<br />\n<br />\nFood specials include $5 Jambalaya and $6 Burger and fries.<br />\n<br />\nCajun\, Brass Bands and Zydeco themed music will be played to get customers in the Mardi Gras spirit. Abita Brewing Co. swag and Mardi Gras beads will be given away while supplies last. 
LOCATION:1344 West Newport Avenue
UID:e.1819.206
SEQUENCE:3
DTSTAMP:20260424T140834Z
URL:https://members.lakeviewroscoevillage.org/events/details/mardi-gras-specials-at-newport-bar-and-grill-03-04-2014-206
END:VEVENT

END:VCALENDAR
