BEGIN:VCALENDAR
VERSION:2.0
PRODID:-//ChamberMaster//Event Calendar 2.0//EN
METHOD:PUBLISH
X-PUBLISHED-TTL:P3D
REFRESH-INTERVAL:P3D
CALSCALE:GREGORIAN
BEGIN:VEVENT
DTSTART;VALUE=DATE:20140120
DTEND;VALUE=DATE:20140121
TRANSP:TRANSPARENT
X-MICROSOFT-CDO-ALLDAYEVENT:TRUE
SUMMARY:Martin Luther King Day - Chamber office closed
DESCRIPTION:Our office will be closed in observance of Martin Luther King Day.
X-ALT-DESC;FMTTYPE=text/html:Our office will be closed in observance of Martin Luther King Day. 
LOCATION:
UID:e.1819.159
SEQUENCE:3
DTSTAMP:20260424T185551Z
URL:https://members.lakeviewroscoevillage.org/events/details/martin-luther-king-day-chamber-office-closed-01-20-2014-159
END:VEVENT

END:VCALENDAR
