BEGIN:VCALENDAR
VERSION:2.0
PRODID:-//ChamberMaster//Event Calendar 2.0//EN
METHOD:PUBLISH
X-PUBLISHED-TTL:P3D
REFRESH-INTERVAL:P3D
CALSCALE:GREGORIAN
BEGIN:VEVENT
DTSTART:20131001T230000Z
DTEND:20131002T003000Z
X-MICROSOFT-CDO-ALLDAYEVENT:FALSE
SUMMARY:Massage Envy Employment Open House
DESCRIPTION:Massage Envy Spa\, the largest employer of massage therapists in the Chicago area\, is in search of more than 150 massage therapists in the Chicagoland area.  \n\n\n\nThose interested in learning more about the culture and experience of working at Massage Envy as well as students looking to join the workforce are highly encouraged to attend. Franchise owners\, managers and current Massage Envy employees will be in attendance to answer any questions related to the health and wellness field and the Massage Envy experience.\n\n\n\nAttendees will learn about the many benefits to being a Massage Envy Spa therapist\, including supportive work environments\, health care benefits\, bonus and incentives\, continuing education and much more. Refreshments will also be served throughout the event. \n\n\n\nRSVP to massageenvy@heronpr.com \n\nIf you cannot attend\, please visit:  www.MassageEnvyCareers.com
X-ALT-DESC;FMTTYPE=text/html:<span style="font-family: calibri\,sans-serif\;"><span style="font-size: 11pt\;">Massage Envy Spa\, the largest employer of massage therapists in the Chicago area\, is in search of more than 150 massage therapists in the Chicagoland area.&nbsp\; </span></span><br />\n<br />\n<span style="font-family: calibri\,sans-serif\;"><span style="font-size: 11pt\;">Those interested in learning more about the culture and experience of working at Massage Envy as well as students looking to join the workforce are highly encouraged to attend. Franchise owners\, managers and current Massage Envy employees will be in attendance to answer any questions related to the health and wellness field and the Massage Envy experience.<br />\n<br />\nAttendees will learn about the many benefits to being a Massage Envy Spa therapist\, including supportive work environments\, health care benefits\, bonus and incentives\, continuing education and much more. <font face="Calibri" size="3">Refreshments will also be served throughout the event.&nbsp\;<br />\n<br />\n<span style="font-size: 11pt\;"><span style="font-family: calibri\,sans-serif\;">RSVP to </span><a href="mailto:massageenvy@heronpr.com"><span style="text-decoration: none\; text-underline: none\;"><span style="color: windowtext\;">massageenvy@heronpr.com</span></span></a>&nbsp\;<br />\nIf you cannot attend\, please visit:&nbsp\; www.MassageEnvyCareers.com </span></font></span></span>
LOCATION:Massage Envy | West Loop Location 808 W. Monroe St. Chicago\, IL 60607
UID:e.1819.69
SEQUENCE:3
DTSTAMP:20260424T224337Z
URL:https://members.lakeviewroscoevillage.org/events/details/massage-envy-employment-open-house-10-01-2013-69
END:VEVENT

END:VCALENDAR
