BEGIN:VCALENDAR
VERSION:2.0
PRODID:-//ChamberMaster//Event Calendar 2.0//EN
METHOD:PUBLISH
X-PUBLISHED-TTL:P3D
REFRESH-INTERVAL:P3D
CALSCALE:GREGORIAN
BEGIN:VEVENT
DTSTART:20140119T200000Z
DTEND:20140119T210000Z
X-MICROSOFT-CDO-ALLDAYEVENT:FALSE
SUMMARY:Maternity Tour at IL Masonic
DESCRIPTION:Pregnancy/Newborn Care / Illinois Masonic Med Ctr\n\n				Maternity Tour \n			\n				 \n		\n		\n			\n				Complimentary one-hour tours\, hosted by one of our nurses\, provide a viewing of private rooms\, including labor and delivery suites\, our Alternative Birthing Center and mother and baby rooms.\n\n				\n\n				Registration required. The class meets at the Advocate Illinois Masonic Medical Center\, 836 W Wellington Ave\, Chicago\, IL 60657.\n\n				\n\n				Please go directly to the information desk upon arrival to meet the instructor. Class code 9B16
X-ALT-DESC;FMTTYPE=text/html:<table border="0" cellpadding="2" cellspacing="0" width="100%">\n	<tbody>\n		<tr>\n			<td colspan="3" valign="top">\n				<span class="pubbold">Pregnancy/Newborn Care / Illinois Masonic Med Ctr</span><!--end pubbold--><br />\n				<span class="pubboldcolor2">Maternity Tour </span><!--end pubboldcolor2--></td>\n			<td valign="top">\n				&nbsp\;</td>\n		</tr>\n		<tr>\n			<td colspan="4">\n				<span class="pubbody">Complimentary one-hour tours\, hosted by one of our nurses\, provide a viewing of private rooms\, including labor and delivery suites\, our Alternative Birthing Center and mother and baby rooms.<br />\n				<br />\n				Registration required. The class meets at the Advocate Illinois Masonic Medical Center\, 836 W Wellington Ave\, Chicago\, IL 60657.<br />\n				<br />\n				Please go directly to the information desk upon arrival to meet the instructor. Class code 9B16</span></td>\n		</tr>\n	</tbody>\n</table>\n
LOCATION:Advocate Illinois Masonic Medical Center\, 836 W Wellington Ave\, Chicago\, IL 60657
UID:e.1819.162
SEQUENCE:3
DTSTAMP:20260424T172703Z
URL:https://members.lakeviewroscoevillage.org/events/details/maternity-tour-at-il-masonic-01-19-2014-162
END:VEVENT

END:VCALENDAR
