BEGIN:VCALENDAR
VERSION:2.0
PRODID:-//ChamberMaster//Event Calendar 2.0//EN
METHOD:PUBLISH
X-PUBLISHED-TTL:P3D
REFRESH-INTERVAL:P3D
CALSCALE:GREGORIAN
BEGIN:VEVENT
DTSTART;VALUE=DATE:20140516
DTEND;VALUE=DATE:20140519
TRANSP:TRANSPARENT
X-MICROSOFT-CDO-ALLDAYEVENT:TRUE
SUMMARY:May Fest
DESCRIPTION:This three-day celebration kicks off the city of Chicago's festival season. The 18th annual Chicago Mayfest brings in three days of celebration featuring: Chicago's BEST Bands\, festival cuisine\, beer\, and a broad spectrum of super cool entertainment  kicking off Friday at 5pm!\n\n	Check out the complete line-up HERE  and start your summer off right with this incredible festival! Mayfest is the first event of the season. Get off the couch and get ready to ROCK!\n\n	\n\n	This 3-day festival features Chicago's finest bands performing throughout the weekend. We offer some incredible food options and ice cold beer\, sangria\, and other beverages to quench your thirst.
X-ALT-DESC;FMTTYPE=text/html:<p style="text-align: justify\;">\n	This three-day celebration kicks off the city of Chicago&rsquo\;s festival season. The 18th annual Chicago Mayfest brings in three days of celebration featuring: Chicago&rsquo\;s <a href="http://mayfest.do312.com/">BEST Bands</a>\, festival cuisine\, beer\, and a broad spectrum of super cool entertainment&hellip\; kicking off Friday at 5pm!</p>\n<p style="text-align: justify\;">\n	Check out the complete line-up <a href="http://mayfest.do312.com/">HERE</a>&hellip\; and start your summer off right with this incredible festival! Mayfest is the first event of the season. Get off the couch and get ready to ROCK!<br />\n	<br />\n	This 3-day festival features Chicago&rsquo\;s finest bands performing throughout the weekend. We offer some incredible food options and ice cold beer\, sangria\, and other beverages to quench your thirst.</p>\n
LOCATION:3100 N Ashland Avenue at Barry
UID:e.1819.192
SEQUENCE:3
DTSTAMP:20260424T094759Z
URL:https://members.lakeviewroscoevillage.org/events/details/may-fest-05-16-2014-192
END:VEVENT

END:VCALENDAR
