BEGIN:VCALENDAR
VERSION:2.0
PRODID:-//ChamberMaster//Event Calendar 2.0//EN
METHOD:PUBLISH
X-PUBLISHED-TTL:P3D
REFRESH-INTERVAL:P3D
CALSCALE:GREGORIAN
BEGIN:VEVENT
DTSTART:20150516T153000Z
DTEND:20150516T180000Z
X-MICROSOFT-CDO-ALLDAYEVENT:FALSE
SUMMARY:MedSpring Urgent Care Grand Opening
DESCRIPTION:
X-ALT-DESC;FMTTYPE=text/html:
LOCATION:MedSpring Urgent Care 3301 N. Ashland Ave Chicago\, IL 60657
UID:e.1819.1567
SEQUENCE:3
DTSTAMP:20260423T113256Z
URL:https://members.lakeviewroscoevillage.org/events/details/medspring-urgent-care-grand-opening-05-16-2015-1567
END:VEVENT

END:VCALENDAR
