BEGIN:VCALENDAR
VERSION:2.0
PRODID:-//ChamberMaster//Event Calendar 2.0//EN
METHOD:PUBLISH
X-PUBLISHED-TTL:P3D
REFRESH-INTERVAL:P3D
CALSCALE:GREGORIAN
BEGIN:VEVENT
DTSTART:20140919T133000Z
DTEND:20140919T223000Z
X-MICROSOFT-CDO-ALLDAYEVENT:FALSE
SUMMARY:Mental Health First Aid (Adult)
DESCRIPTION:Mental Health First Aid is a public education course that brings awareness to mental health issues and reduces stigma by introducing participants to risk factors and warning signs of mental health problems\, builds understanding of their impact and overviews common treatments.\n\n\nParticipants receive a lunch\,course manual\, folder with handouts\, and a certificate of completion that is valid for three years.\n\n\n\nTo register\, please visit www.c4chicago.org/mhfa!\n\n\n\n\n\nWe look forward to having you!!
X-ALT-DESC;FMTTYPE=text/html:<h3><em>Mental Health First Aid</em> is a public education course that brings awareness to mental health issues and reduces stigma by introducing participants to risk factors and warning signs of mental health problems\, builds understanding of their impact and overviews common treatments.</h3>\n<br />\nParticipants receive a lunch\,course&nbsp\;manual\, folder with handouts\, and a certificate of completion that is valid for three years.<br />\n<br />\nTo register\, please visit www.c4chicago.org/mhfa!<br />\n<br />\n<br />\nWe look forward to having you!!<br />\n<br />\n<br />\n<br />\n&nbsp\;
LOCATION:Community Counseling Centers of Chicago Main Office -4740 N Clark St. Chicago\,IL 60640
UID:e.1819.340
SEQUENCE:3
DTSTAMP:20260424T002910Z
URL:https://members.lakeviewroscoevillage.org/events/details/mental-health-first-aid-adult-09-19-2014-340
END:VEVENT

END:VCALENDAR
