BEGIN:VCALENDAR
VERSION:2.0
PRODID:-//ChamberMaster//Event Calendar 2.0//EN
METHOD:PUBLISH
X-PUBLISHED-TTL:P3D
REFRESH-INTERVAL:P3D
CALSCALE:GREGORIAN
BEGIN:VEVENT
DTSTART:20141002T133000Z
DTEND:20141002T223000Z
X-MICROSOFT-CDO-ALLDAYEVENT:FALSE
SUMMARY:Mental Health First Aid (ADULT)
DESCRIPTION:Mental Health First Aid is a public education course that brings awareness to mental health issues. It introduces participants to risk factors and warning signs of mental health problems\, builds understanding of their impact and overviews common treatments.\n\n\n\nAll participants receive lunch\, a course manual\, a resource folder\, & a certificate of completion valid for three years.\n\n\n\n \nC4 offers continuing education credits for the following professionals who attend the Adult MHFA course:\n\n\n	Human Resource Professionals through the Human Resources Certificate Institute (6.5 hours)\n	Counselors\, Social Workers\, Marriage and Family Therapists\, and Clinical Psychologists through the Illinois Department of Financial and Professional Regulation (IDFPR) (8 hours)\n	Educators through the Illinois State Board of Education (ISBE) (8 hours)\n	Nurses through the Ohio Nurses Association (ONA) (8 hours)\n\n\n*This continuing nursing education activity was approved by the Ohio Nurses Association (OBN-001-91)\, an accredited approver by the American Nurses Credentialing Center's Commission on Accreditation. *\n\n\n\n\n\n\n\nTo registe\, please visit www.c4chicago.org/mhfa.
X-ALT-DESC;FMTTYPE=text/html:Mental Health First Aid is a public education course that brings awareness to mental health issues. It introduces participants to risk factors and warning signs of mental health problems\, builds understanding of their impact and overviews common treatments.<br type="_moz" />\n<br />\nAll participants receive lunch\, a course manual\, a resource folder\, &amp\; a certificate of completion valid for three years.<br />\n<br />\n&nbsp\;\n<p>C4 offers continuing education credits for the following professionals who attend the Adult MHFA course:</p>\n\n<ul>\n	<li>Human Resource Professionals through the Human Resources Certificate Institute (6.5 hours)</li>\n	<li>Counselors\, Social Workers\, Marriage and Family Therapists\, and Clinical Psychologists through the Illinois Department of Financial and Professional Regulation (IDFPR) (8 hours)</li>\n	<li>Educators through the Illinois State Board of Education (ISBE) (8 hours)</li>\n	<li>Nurses through the Ohio Nurses Association (ONA) (8 hours)</li>\n</ul>\n\n<p><em><strong>*This continuing nursing education activity was approved by the Ohio Nurses Association (OBN-001-91)\, an accredited approver by the American Nurses Credentialing Center&#39\;s Commission on Accreditation. *</strong></em><br />\n<br />\n<br />\n<br type="_moz" />\nTo registe\, please visit www.c4chicago.org/mhfa.<br />\n&nbsp\;</p>\n
LOCATION:Community Counseling Centers of Chicago 4740 N Clark St. Chicago\,IL 60640
UID:e.1819.342
SEQUENCE:3
DTSTAMP:20260423T225354Z
URL:https://members.lakeviewroscoevillage.org/events/details/mental-health-first-aid-adult-10-02-2014-342
END:VEVENT

END:VCALENDAR
