BEGIN:VCALENDAR
VERSION:2.0
PRODID:-//ChamberMaster//Event Calendar 2.0//EN
METHOD:PUBLISH
X-PUBLISHED-TTL:P3D
REFRESH-INTERVAL:P3D
CALSCALE:GREGORIAN
BEGIN:VEVENT
DTSTART:20141020T133000Z
DTEND:20141020T223000Z
X-MICROSOFT-CDO-ALLDAYEVENT:FALSE
SUMMARY:Mental Health First Aid (Adult)
DESCRIPTION:Mental Health First Aid is a public education course that introduces participants to risk factors and warning signs of mental health problems\, builds understanding of their impact and overviews common treatments.\n\n\n\nParticipants receive lunch\,a course manual\, a resource folder\, and a certificate  of completion that is valid for three years.\n\n\n\n\n\nTo register\,please visit www.c4chicago.org/mhfa.
X-ALT-DESC;FMTTYPE=text/html:Mental Health First Aid is a public education course that introduces participants to risk factors and warning signs of mental health problems\, builds understanding of their impact and overviews common treatments.<br />\n<br />\nParticipants receive lunch\,a course manual\, a resource folder\, and a certificate&nbsp\; of completion that is valid for three years.<br />\n<br />\n<br />\nTo register\,please visit <a href="http://www.c4chicago.org/mhfa">www.c4chicago.org/mhfa</a>.
LOCATION:Community Counseling Centers of Chicago 4740 N Clark St. Chicago\,IL 60640
UID:e.1819.344
SEQUENCE:3
DTSTAMP:20260423T225203Z
URL:https://members.lakeviewroscoevillage.org/events/details/mental-health-first-aid-adult-10-20-2014-344
END:VEVENT

END:VCALENDAR
