BEGIN:VCALENDAR
VERSION:2.0
PRODID:-//ChamberMaster//Event Calendar 2.0//EN
METHOD:PUBLISH
X-PUBLISHED-TTL:P3D
REFRESH-INTERVAL:P3D
CALSCALE:GREGORIAN
BEGIN:VEVENT
DTSTART:20141208T143000Z
DTEND:20141208T233000Z
X-MICROSOFT-CDO-ALLDAYEVENT:FALSE
SUMMARY:Mental Health First Aid ( Adult)
DESCRIPTION:Mental Health First Aid is a public education course that destigmatizes mental health issues by introducing participants to risk factors and warning signs of mental health problems\, builds understanding of their impact and overviews common treatments.
X-ALT-DESC;FMTTYPE=text/html:Mental Health First Aid is a public education course that destigmatizes mental health issues by introducing participants to risk factors and warning signs of mental health problems\, builds understanding of their impact and overviews common treatments.
LOCATION:Community Counseling Centers of Chicago 4740 N Clark St. Chicago\,IL 60640
UID:e.1819.347
SEQUENCE:3
DTSTAMP:20260423T190834Z
URL:https://members.lakeviewroscoevillage.org/events/details/mental-health-first-aid-adult-12-08-2014-347
END:VEVENT

END:VCALENDAR
