BEGIN:VCALENDAR
VERSION:2.0
PRODID:-//ChamberMaster//Event Calendar 2.0//EN
METHOD:PUBLISH
X-PUBLISHED-TTL:P3D
REFRESH-INTERVAL:P3D
CALSCALE:GREGORIAN
BEGIN:VEVENT
DTSTART:20141017T133000Z
DTEND:20141017T223000Z
X-MICROSOFT-CDO-ALLDAYEVENT:FALSE
SUMMARY:Mental Health First Aid (YOUTH)
DESCRIPTION:Mental Health First Aid is a public education course that introduces participants to risk factors and warning signs of mental health problems\,builds understanding of their impact and overviews common treatments.\n\n\n\nThe youth course is targeted towards professionals who work with adolescents and young adults age 1-18.\n\n\n\nParticipans receive lunch\, a course manual \, a resource folder\, and a certificate of completion valid for three years.\n\n\n\nTo register\, please visit:\n\nwww.c4chicago.org/mhfa
X-ALT-DESC;FMTTYPE=text/html:Mental Health First Aid is a public education course that introduces participants to risk factors and warning signs of mental health problems\,builds understanding of their impact and overviews common treatments.<br />\n<br />\nThe youth course is targeted towards professionals who work with adolescents and young adults age 1-18.<br />\n<br />\nParticipans receive lunch\, a course manual \, a resource folder\, and a certificate of completion valid for three years.<br />\n<br />\nTo register\, please visit:<br />\nwww.c4chicago.org/mhfa
LOCATION:Community Counseling Centers of Chicago 4740 N Clark St. Chicago\,IL 60640
UID:e.1819.343
SEQUENCE:3
DTSTAMP:20260423T224036Z
URL:https://members.lakeviewroscoevillage.org/events/details/mental-health-first-aid-youth-10-17-2014-343
END:VEVENT

END:VCALENDAR
