BEGIN:VCALENDAR
VERSION:2.0
PRODID:-//ChamberMaster//Event Calendar 2.0//EN
METHOD:PUBLISH
X-PUBLISHED-TTL:P3D
REFRESH-INTERVAL:P3D
CALSCALE:GREGORIAN
BEGIN:VEVENT
DTSTART:20141204T143000Z
DTEND:20141204T233000Z
X-MICROSOFT-CDO-ALLDAYEVENT:FALSE
SUMMARY:Mental Health First Aid (YOUTH)
DESCRIPTION:Mental Health First Aid is a public education course that brings awareness to mental health issues by introducing participants to risk factors and warning signs of mental health problems\,builds understanding of their impact and  overviews common treatments.\n\n\n\nThe youth curriculum is targeted towards professionals who work with adolescents and young adults age 12-18.\n\n\n\nParticipants receive lunch\, a course manual\, a resource folder\, and a certificate of completion that is valid for three years.\n\n\n\n\n\nTo register\,please visit www.c4chicago.org/mhfa.
X-ALT-DESC;FMTTYPE=text/html:<p>Mental Health First Aid is a public education course that brings awareness to mental health issues by introducing participants to risk factors and warning signs of mental health problems\,builds understanding of their impact and&nbsp\; overviews common treatments.<br />\n<br />\nThe youth curriculum is targeted towards professionals who work with adolescents and young adults age 12-18.<br />\n<br />\nParticipants receive lunch\, a course manual\, a resource folder\, and a certificate of completion that is valid for three years.<br />\n<br />\n<br />\nTo register\,please visit www.c4chicago.org/mhfa.</p>\n
LOCATION:Community Counseling Centers of Chicago 4740 N Clark St. Chicago\,IL 60640
UID:e.1819.346
SEQUENCE:3
DTSTAMP:20260423T190258Z
URL:https://members.lakeviewroscoevillage.org/events/details/mental-health-first-aid-youth-12-04-2014-346
END:VEVENT

END:VCALENDAR
