BEGIN:VCALENDAR
VERSION:2.0
PRODID:-//ChamberMaster//Event Calendar 2.0//EN
METHOD:PUBLISH
X-PUBLISHED-TTL:P3D
REFRESH-INTERVAL:P3D
CALSCALE:GREGORIAN
BEGIN:VEVENT
DTSTART;VALUE=DATE:20140414
DTEND;VALUE=DATE:20140625
TRANSP:TRANSPARENT
X-MICROSOFT-CDO-ALLDAYEVENT:TRUE
SUMMARY:Mental Heath First Aid Education Course
DESCRIPTION:Mental Health First Aid (MHFA) is an innovative and evidenced-based education course designed to teach members of the public how to recognize symptoms of mental illness and substance use disorders\, offer initial help to people experiencing a mental health crisis\, and connect people with appropriate professional help.  CEUs are also available for many professions
X-ALT-DESC;FMTTYPE=text/html:<strong><span style="color:#00B050\;"><span style="font-family:calibri\,sans-serif\;"><span style="font-size:14.0pt\;">Mental Health First Aid (MHFA)</span></span></span></strong> <span style="font-family:calibri\,sans-serif\;"><span style="font-size:14.0pt\;">is an innovative and evidenced-based education course designed to teach members of the public how to recognize symptoms of mental illness and substance use disorders\, offer initial help to people experiencing a mental health crisis\, and connect people with appropriate professional help.&nbsp\; CEUs are also available for many professions</span></span>
LOCATION:4740 North Clark Street Chicago IL 60640
UID:e.1819.234
SEQUENCE:3
DTSTAMP:20260424T073259Z
URL:https://members.lakeviewroscoevillage.org/events/details/mental-heath-first-aid-education-course-04-14-2014-234
END:VEVENT

END:VCALENDAR
