BEGIN:VCALENDAR
VERSION:2.0
PRODID:-//ChamberMaster//Event Calendar 2.0//EN
METHOD:PUBLISH
X-PUBLISHED-TTL:P3D
REFRESH-INTERVAL:P3D
CALSCALE:GREGORIAN
BEGIN:VEVENT
DTSTART:20170331T003000Z
DTEND:20170331T020000Z
X-MICROSOFT-CDO-ALLDAYEVENT:FALSE
SUMMARY:Merit in Music
DESCRIPTION:Award-winning Chicago premiere documentary film screening of "Sweet Dillard" about one of the nation's top high school jazz bands to demonstrate the importance of music education. A benefit for Merit School of Music\, Chicago's largest community music school. Features Merit student performers at the Music Box.
X-ALT-DESC;FMTTYPE=text/html:Award-winning Chicago premiere documentary film screening of "Sweet Dillard" about one of the nation's top high school jazz bands to demonstrate the importance of music education. A benefit for Merit School of Music\, Chicago's largest community music school. Features Merit student performers at the Music Box.
LOCATION:Music Box Theatre 3733 N. Southport
UID:e.1819.5009
SEQUENCE:3
DTSTAMP:20260419T235422Z
URL:https://members.lakeviewroscoevillage.org/events/details/merit-in-music-03-30-2017-5009
END:VEVENT

END:VCALENDAR
