BEGIN:VCALENDAR
VERSION:2.0
PRODID:-//ChamberMaster//Event Calendar 2.0//EN
METHOD:PUBLISH
X-PUBLISHED-TTL:P3D
REFRESH-INTERVAL:P3D
CALSCALE:GREGORIAN
BEGIN:VEVENT
DTSTART:20131210T150000Z
DTEND:20131210T160000Z
X-MICROSOFT-CDO-ALLDAYEVENT:FALSE
SUMMARY:Minority/Women Business Certification Session at DeVry Univeristy
DESCRIPTION:FABEX Chicago is hosting a Minority/Women Business Enterprise (M/WBE) certification info session at DeVry University.\n\n\n\nPossessing an M/WBE certification is one powerful tool in helping you promote your business to procurement decision makers. This FREE\, 1-hour session will be led by a City of Chicago representative who will educate attendees about the importance of possessing an M/WBE\, how to avoid the most common mistakes when applying for an M/WBE\, and the application process.\n\n\n\nPlease RSVP to philippineamericanchamber@gmail.com.\n\n\n\nPark for free in any lot and proceed to security on the main floor to register your car & license plate. \n\n	The FREE M/WBE info session is brought to you by FABEX Chicago (Philippine American Chamber of Commerce of Greater Chicago) and hosted by DeVry University Chicago.
X-ALT-DESC;FMTTYPE=text/html:<span new="" times=""><font color="#000000">FABEX Chicago is hosting a Minority/Women Business Enterprise (M/WBE) certification info session <b>at DeVry University.</b><br />\n<br />\nPossessing an M/WBE certification is one powerful tool in helping you promote your business to procurement decision makers. This FREE\, 1-hour session will be led by a City of Chicago representative who will educate attendees about the importance of possessing an M/WBE\, <font color="#000000">how to avoid the most common mistakes when applying for an M/WBE\,&nbsp\;</font>and the application process.<br />\n<br />\nPlease RSVP to </font><a href="mailto:philippineamericanchamber@gmail.com"><font color="#0000ff">philippineamericanchamber@gmail.com</font></a><font color="#000000">.<br />\n<br />\nPark for free in any lot and proceed to security on the main floor to register your car &amp\; license plate. </font></span>\n<p align="LEFT">\n	<span new="" times=""><font color="#000000">The FREE M/WBE info session is brought to you by FABEX Chicago (Philippine American Chamber of Commerce of Greater Chicago) and hosted by DeVry University Chicago<b>. </b></font></span></p>\n<br />\n<br />\n
LOCATION:DeVry University Chicago 3300 N. Campbell Avenue in Chicago Presentation will be in the new\, gray building on the 2nd floor in room 233-236 Park for free in any lot and proceed to security on the main floor to register your car & license plate.
UID:e.1819.146
SEQUENCE:3
DTSTAMP:20260424T192248Z
URL:https://members.lakeviewroscoevillage.org/events/details/minority-women-business-certification-session-at-devry-univeristy-12-10-2013-146
END:VEVENT

END:VCALENDAR
