BEGIN:VCALENDAR
VERSION:2.0
PRODID:-//ChamberMaster//Event Calendar 2.0//EN
METHOD:PUBLISH
X-PUBLISHED-TTL:P3D
REFRESH-INTERVAL:P3D
CALSCALE:GREGORIAN
BEGIN:VEVENT
DTSTART:20170207T000000Z
DTEND:20170207T030000Z
X-MICROSOFT-CDO-ALLDAYEVENT:FALSE
SUMMARY:Mixed Media Painting Party!
DESCRIPTION:Time to mix it up -- and we don't just mean your cocktail!\n\n\n\nJoin us at our *BYOB* studio as we craft layers of paper images and paint under the expert tutelage of a B&B instructor. These mixed media masterpieces will surely be a conversation piece at home or in the office.\n\n\n\nTicket price includes use of all necessary paint supplies and aprons\, instruction and a take-home canvas!\n\n\n\n6:00pm - 6:30pm BYOB Cocktail Reception\n\n6:30pm - 9:00pm Mixed Media\n\n- First 30 minutes of the event is settle in and cocktail time! We are BYOB so bring what you would like to drink!\n\n- We have glasses\, wine openers\, plastic ware\, paper plates\, napkins and ice here for you. You're welcome to bring any food items\; please note table space is limited.\n\nTO REGISTER FOR THIS EVENT\, CLICK HERE: http://bit.ly/mixedmedia2-6
X-ALT-DESC;FMTTYPE=text/html:<p><strong>Time to mix it up -- and we don&#39\;t just mean your cocktail!</strong><br />\n<br />\nJoin us at our *BYOB* studio as we craft layers of paper images and paint under the expert tutelage of a B&amp\;B instructor. These mixed media masterpieces will surely be a conversation piece at home or in the office.<br />\n<br />\nTicket price includes use of all necessary paint supplies and aprons\, instruction and a take-home canvas!<br />\n<br />\n<strong>6:00pm - 6:30pm&nbsp\;</strong>BYOB Cocktail Reception<br />\n<strong>6:30pm - 9:00pm&nbsp\;</strong>Mixed Media</p>\n\n<p>- First 30 minutes of the event is settle in and cocktail time! We are BYOB so bring what you would like to drink!<br />\n- We have glasses\, wine openers\, plastic ware\, paper plates\, napkins and ice here for you. You&rsquo\;re welcome to bring any food items\; please note table space is limited.</p>\n\n<p><strong>TO REGISTER FOR THIS EVENT\, CLICK HERE:&nbsp\;<a href="http://bit.ly/mixedmedia2-6" rel="noopener noreferrer nofollow" style="color: rgb(2\, 120\, 184)\; text-decoration: none\; padding-top: 0px\;" target="_blank">http://bit.ly/mixedmedia2-6</a></strong></p>\n
LOCATION:Bottle & Bottega Lakeview 2900 N Lincoln Ave Chicago\, IL 60657
UID:e.1819.4929
SEQUENCE:3
DTSTAMP:20260420T013446Z
URL:https://members.lakeviewroscoevillage.org/events/details/mixed-media-painting-party-02-06-2017-4929
END:VEVENT

END:VCALENDAR
