BEGIN:VCALENDAR
VERSION:2.0
PRODID:-//ChamberMaster//Event Calendar 2.0//EN
METHOD:PUBLISH
X-PUBLISHED-TTL:P3D
REFRESH-INTERVAL:P3D
CALSCALE:GREGORIAN
BEGIN:VEVENT
DTSTART:20170208T000000Z
DTEND:20170208T033000Z
X-MICROSOFT-CDO-ALLDAYEVENT:FALSE
SUMMARY:Mosaics on Canvas Painting Party!
DESCRIPTION:Join us at our *BYOB* studio as we mix canvas painting and glass mosaic tiles\, resulting in a shimmering surface texture full of reflected light and vibrant color. Our event includes step-by-step instruction\, a 11X14 canvas\, an array of colorful glass tiles\, and all painting supplies needed to elevate the canvas with this mixed media treatment. It's elegant\, shiny and fun!\n\n\n\n6:00pm - 6:30pm BYOB Cocktail Reception\n\n6:30pm - 9:30pm Painting and adding tiles\n\n\n\n- The first 30 minutes of the event is the time to settle in and grab some wine or a cocktail! We are BYOB so bring what you would like to drink!\n\n- We have glasses\, wine openers\, plastic ware\, paper plates\, napkins and ice here for you. You're welcome to bring any food items\; please note table space is limited.\n\nTO REGISTER FOR THIS EVENT\, CLICK HERE: http://bit.ly/mosaicsoncanvas2-7\n\n?
X-ALT-DESC;FMTTYPE=text/html:<p><strong>Join us at our *BYOB* studio as we mix canvas painting and glass mosaic tiles</strong>\, resulting in a shimmering surface texture full of reflected light and vibrant color. Our event includes step-by-step instruction\, a 11X14 canvas\, an array of colorful glass tiles\, and all painting supplies needed to elevate the canvas with this mixed media treatment. It&#39\;s elegant\, shiny and fun!<br />\n<br />\n6:00pm - 6:30pm BYOB Cocktail Reception<br />\n6:30pm - 9:30pm Painting and adding tiles<br />\n<br />\n- The first 30 minutes of the event is the time to settle in and grab some wine or a cocktail! We are BYOB so bring what you would like to drink!<br />\n- We have glasses\, wine openers\, plastic ware\, paper plates\, napkins and ice here for you. You&rsquo\;re welcome to bring any food items\; please note table space is limited.</p>\n\n<p><strong>TO REGISTER FOR THIS EVENT\, CLICK HERE:&nbsp\;<a href="http://bit.ly/mosaicsoncanvas2-7" rel="noopener noreferrer nofollow" style="color: rgb(2\, 120\, 184)\; text-decoration: none\; padding-top: 0px\;" target="_blank">http://bit.ly/mosaicsoncanvas2-7<br />\n?</a></strong><br />\n&nbsp\;</p>\n
LOCATION:Bottle & Bottega Lakeview 2900 N Lincoln Ave Chicago\, IL 60657
UID:e.1819.4927
SEQUENCE:3
DTSTAMP:20260420T013854Z
URL:https://members.lakeviewroscoevillage.org/events/details/mosaics-on-canvas-painting-party-02-07-2017-4927
END:VEVENT

END:VCALENDAR
