BEGIN:VCALENDAR
VERSION:2.0
PRODID:-//ChamberMaster//Event Calendar 2.0//EN
METHOD:PUBLISH
X-PUBLISHED-TTL:P3D
REFRESH-INTERVAL:P3D
CALSCALE:GREGORIAN
BEGIN:VEVENT
DTSTART:20160508T210000Z
DTEND:20160508T233000Z
X-MICROSOFT-CDO-ALLDAYEVENT:FALSE
SUMMARY:Mother's Day Afternoon Painting Party!
DESCRIPTION:Cheers to making this Mother?s Day an incredibly fun and special day for Mom!  What's better than spending quality time together painting?  Treat Mom to a unique event just for her -- the smiles come easy with this creative adventure at Bottle & Bottega.\n\nJoin us at our *BYOB* studio as we paint a piece by a local artist! Ticket price includes use of all necessary paint supplies and aprons\, instruction\, and a 16x20 take-home canvas! \n\n\n\n4pm - 4:30pm BYOB Cocktail Reception \n\n4:30pm - 6:30pm Painting
X-ALT-DESC;FMTTYPE=text/html:<p><span style="color:rgb(255\, 0\, 0)"><strong>Cheers to making this Mother?s Day an&nbsp\;incredibly fun and special day for Mom!&nbsp\;</strong></span>&nbsp\;What's better than spending quality time together painting? &nbsp\;Treat Mom to a&nbsp\;unique event just for her -- the smiles come easy with this creative adventure at Bottle &amp\; Bottega.</p>\n\n<p><span style="background-color:inherit">Join us at our *BYOB* studio as we paint a piece by a local artist! Ticket price includes&nbsp\;</span><span style="background-color:inherit">use of&nbsp\;</span><span style="background-color:inherit">all&nbsp\;</span><span style="background-color:inherit">necessary&nbsp\;</span><span style="background-color:inherit">paint supplies</span><span style="background-color:inherit">&nbsp\;and aprons</span><span style="background-color:inherit">\, instruction\,&nbsp\;</span><span style="background-color:inherit">and a 16x20 take-home canvas!</span>&nbsp\;<br>\n<br>\n<span style="font-size:14px"><strong><span style="background-color:inherit">4pm - 4:30pm&nbsp\;</span></strong><span style="background-color:inherit\; color:rgb(85\, 85\, 85)\; font-family:lato\,sans-serif">BYOB&nbsp\;</span><span style="background-color:inherit\; color:rgb(85\, 85\, 85)\; font-family:lato\,sans-serif">Cocktail Reception</span><span style="color:rgb(85\, 85\, 85)\; font-family:lato\,sans-serif">&nbsp\;</span><br>\n<strong><span style="background-color:inherit">4:30pm - 6</span></strong><strong><span style="background-color:inherit">:30pm&nbsp\;</span></strong><span style="background-color:inherit\; color:rgb(85\, 85\, 85)\; font-family:lato\,sans-serif">Painting</span></span></p>\n
LOCATION:Bottle & Bottega Lakeview
UID:e.1819.2891
SEQUENCE:3
DTSTAMP:20260422T115130Z
URL:https://members.lakeviewroscoevillage.org/events/details/mother-s-day-afternoon-painting-party-05-08-2016-2891
END:VEVENT

END:VCALENDAR
