BEGIN:VCALENDAR
VERSION:2.0
PRODID:-//ChamberMaster//Event Calendar 2.0//EN
METHOD:PUBLISH
X-PUBLISHED-TTL:P3D
REFRESH-INTERVAL:P3D
CALSCALE:GREGORIAN
BEGIN:VEVENT
DTSTART;VALUE=DATE:20170514
DTEND;VALUE=DATE:20170515
TRANSP:TRANSPARENT
X-MICROSOFT-CDO-ALLDAYEVENT:TRUE
SUMMARY:Mother's Day at Bottle & Bottega!
DESCRIPTION:Mother's Day made classy\, chic\, and easy! This year\, think outside the box for a one-of-a-kind\, memorable celebration. Bring mom\, grandma\, & the whole family in to try B&B's newest art form   wood pallets! Rustic\, Vintage\, or Country Chic... whatever your design aesthetic\, you are sure to fall in love with painting on this uniquely textured surface. \n\nPlease note: While we're excited to have your family in for the day\, alcohol will be present. Children under 12 are not permitted\, and those under 18 must be accompanied by a guardian. \n\n\n\nTicket price includes use of all necessary paint supplies and aprons\, instruction\, your 12x16 take-home wood pallet\, and a fun surprise party favor that's sure to GROW on you (wink\, wink). \n\nBONUS: Special Mother's Day Raffles!\n\n-Be one of the first 30 people to register for our 5/14 events\, and you'll be automatically entered into our raffle for a custom\, artist-created wood pallet monogram painting!\n\n-Each attendee of our Mother's Day parties will be entered into a free raffle for a chance to spin the B&B prize wheel! You could win VIP bonus points\, instructor artwork\, a gift certificate\, & more!\n\n\n\nFOUR UNIQUE PARTIES ALL DAY LONG:\n\nEarly Bird Canvas Painting ? 9:00-11:00AM ? bit.ly/mday-LV-9a\n\nLovely Afternoon Canvas Painting ? 12:00-2:30PM ? bit.ly/mday-LV-12p\n\nEvening Together Canvas Painting ? 4:00-6:30PM ? bit.ly/mday-LV-4p\n\nMother's Day Wood Pallet Painting ? 4:00-7:00PM ? bit.ly/mday-LV-pallets
X-ALT-DESC;FMTTYPE=text/html:<p><span style="color:rgb(255\, 102\, 204)"><strong>Mother&#39\;s Day made classy\, chic\, and easy!&nbsp\;</strong></span>This year\, think outside the box&nbsp\;for a one-of-a-kind\, memorable celebration.&nbsp\;Bring mom\, grandma\, &amp\; the whole family in&nbsp\;to try B&amp\;B&#39\;s newest art form &ndash\; wood pallets! Rustic\, Vintage\, or Country Chic... whatever your design aesthetic\, you are sure to fall in love with painting on this uniquely textured&nbsp\;surface.&nbsp\;</p>\n\n<p><span style="background-color:inherit"><span style="color:rgb(255\, 0\, 0)"><strong>Please note:</strong></span>&nbsp\;While we&#39\;re excited to have your family in for the day\, alcohol will be present. Children under 12 are not permitted\, and those under 18&nbsp\;must be accompanied by a guardian.&nbsp\;<br />\n<br />\nTicket price includes&nbsp\;</span><span style="background-color:inherit">use of&nbsp\;</span><span style="background-color:inherit">all&nbsp\;</span><span style="background-color:inherit">necessary&nbsp\;</span><span style="background-color:inherit">paint supplies</span><span style="background-color:inherit">&nbsp\;and aprons</span><span style="background-color:inherit">\, instruction\,&nbsp\;</span><span style="background-color:inherit">your 12x16 take-home wood pallet\, and a fun surprise party favor that&#39\;s sure to GROW on you (wink\, wink).&nbsp\;</span></p>\n\n<p><strong><span style="color:rgb(255\, 0\, 204)">BONUS: Special Mother&#39\;s Day Raffles!</span></strong><br />\n<span style="color:rgb(75\, 79\, 86)">-Be one of the first 30 people to register for our 5/14 events\, and you&#39\;ll be automatically entered into our raffle for a custom\, artist-created wood pallet monogram painting!</span><br />\n<span style="color:rgb(75\, 79\, 86)">-Each attendee of our Mother&#39\;s Day parties will be entered into a free raffle for a chance to spin the B&amp\;B prize wheel! You could win VIP bonus points\, instructor artwork\, a gift certificate\, &amp\; more!</span><br />\n<br />\n<span style="color:#FF0000"><strong>FOUR UNIQUE PARTIES ALL DAY LONG:</strong></span><br />\nEarly Bird Canvas Painting ? 9:00-11:00AM ?&nbsp\;<a href="http://bit.ly/mday-LV-9a" rel="nofollow noopener nofollow" target="_blank">bit.ly/mday-LV-9a</a><br />\nLovely Afternoon Canvas Painting ? 12:00-2:30PM ?&nbsp\;<a href="http://bit.ly/mday-LV-12p" rel="nofollow noopener nofollow" target="_blank">bit.ly/mday-LV-12p</a><br />\nEvening Together Canvas Painting ? 4:00-6:30PM ?&nbsp\;<a href="http://bit.ly/mday-LV-4p" rel="nofollow noopener nofollow" target="_blank">bit.ly/mday-LV-4p</a><br />\nMother&#39\;s Day Wood Pallet Painting ? 4:00-7:00PM ?&nbsp\;<a href="http://bit.ly/mday-LV-pallets" rel="nofollow noopener nofollow" target="_blank">bit.ly/mday-LV-pallets</a></p>\n
LOCATION:Bottle & Bottega Lakeview 2900 N Lincoln Ave Chicago\, IL 60657
UID:e.1819.5020
SEQUENCE:3
DTSTAMP:20260419T220806Z
URL:https://members.lakeviewroscoevillage.org/events/details/mother-s-day-at-bottle-bottega-05-14-2017-5020
END:VEVENT

END:VCALENDAR
