BEGIN:VCALENDAR
VERSION:2.0
PRODID:-//ChamberMaster//Event Calendar 2.0//EN
METHOD:PUBLISH
X-PUBLISHED-TTL:P3D
REFRESH-INTERVAL:P3D
CALSCALE:GREGORIAN
BEGIN:VEVENT
DTSTART:20140511T150000Z
DTEND:20140512T010000Z
X-MICROSOFT-CDO-ALLDAYEVENT:FALSE
SUMMARY:Mother's Day Brunch and Dinner at ARTANGO SOUTH AMERICAN BISTRO
DESCRIPTION:Treat your mom with Chef Isaak Reyes's 3 course $35 Mother's Day\n\nPrix Fixe Brunch Menu or  a la carte Dinner menu\n\nEnjoy your special day with Artango Bistro.\n\nFeliz Dia de la madre!\n\nMother's Day Three Course Prix Fixe Menu\n\n$35 adults and $14 kids between 3-11 years old\n\nOpen 10am-8pm\,  Sunday\, May 11th\n\nentradas\n\n\n\nENSALADA DE PULPO\n\noctopus\, arugula\, sweet potato\, citrus vinaigrette \n\n\n\n\n\n \n\nENSALADA DEL CHEF\n\nspinach\, beet\, goat cheese\, horseradish dressing \n\n\n\n\n\n \n\nGUACAMOLE PERUANO\n\navocado\, aji amarillo\, onion\, cilantro\, plantain \n\n\n\n\n \n\nCREPAS CON MARISCOS\n\ncrepes\, mixed seafood\, creamy champagne sauce \n\n \n\n                PULPO A LA PLANCHA\n\ngrilled octopus\, roasted potatoes\, grilled veggies\n\n\n\n\n\n\n               SALM N BENEDICT\n\npoached eggs\, smoked salmon\, arepa\, red onions\, capers\, hollandaise sauce\, roasted potatoes\, chorizo\n\nCANGREJO BENEDICT\n\npoached eggs\, crab cake\, arepa\, aji amarillo hollandaise sauce\,    roasted potatoes\, chorizo\n\nCEVICHES\n\ncatch of the day\, aji amarillo\, passion fruit sauce\, plantain chips\n\n\n\n\nTOSTADA A LA FRANCESA CON ALBARICOQUE\n\nfrench toast\, roasted apricot french toast with sabanyon- apricot sauce\n\n\n\n\nplatos fuertes\n\nROCOTO RELLENO\n\nred pepper stuffed with quinoa\, mushrooms\, kale\, carrots\,       butternut squash\, smoked provolone cheese\n\nSALM N DE PASI N\n\ngrilled salmon\, quinoa\, julienne veggies\, aji amarillo passion fruit sauce\, truffle butter \n\nENTRA A Y HUEVOS\n\nskirt steak\, two eggs\, mashed potatoes or rice\, guacamole\, chimichurri sauce \n\nCORDERO PATAG NICO\n\ngrilled lamb chops\, brussels sprouts\, polenta\,  rosemary lamb jus \n\nMALBEC MIGNON\n\nfilet mignon\, purple peruvian mashed potatoes\,  red & yellow pepper\, grilled asparagus\, paprika oil\, malbec sauce \n\nCONFIT DE PATO\n\nduck breast and confit\, lentils\, ahi amarillo-red wine sauce\n\ndessert\n\n\n\n** Beverages\, Tax & gratuity are not included in the price
X-ALT-DESC;FMTTYPE=text/html:<h3 data-mce-style="text-align: right\;" style="color: rgb(51\, 51\, 51)\; font-family: Georgia\, 'Times New Roman'\, 'Bitstream Charter'\, Times\, serif\; line-height: 19px\;"><span data-mce-style="color: #c0c0c0\;">Treat your mom with Chef Isaak Reyes&#39\;s 3&nbsp\;course $35&nbsp\;<strong>Mother&#39\;s Day</strong></span></h3>\n\n<h3 data-mce-style="text-align: right\;" style="color: rgb(51\, 51\, 51)\; font-family: Georgia\, 'Times New Roman'\, 'Bitstream Charter'\, Times\, serif\; line-height: 19px\;"><span data-mce-style="color: #c0c0c0\;"><strong>Prix Fixe Brunch Menu</strong>&nbsp\;or&nbsp\;&nbsp\;a la carte Dinner menu</span></h3>\n\n<p data-mce-style="text-align: right\;" style="color: rgb(51\, 51\, 51)\; font-family: Georgia\, 'Times New Roman'\, 'Bitstream Charter'\, Times\, serif\; font-size: 13px\; line-height: 19px\;"><span data-mce-style="font-style: italic\; color: #c0c0c0\;" style="font-style: italic\;">Enjoy your special day with Artango Bistro.</span></p>\n\n<p data-mce-style="text-align: right\;" style="color: rgb(51\, 51\, 51)\; font-family: Georgia\, 'Times New Roman'\, 'Bitstream Charter'\, Times\, serif\; font-size: 13px\; line-height: 19px\;"><span data-mce-style="color: #c0c0c0\;"><strong><span data-mce-style="font-style: italic\;" style="font-style: italic\;">Feliz Dia de la madre!</span></strong></span></p>\n\n<h3 data-mce-style="text-align: center\;" style="color: rgb(51\, 51\, 51)\; font-family: Georgia\, 'Times New Roman'\, 'Bitstream Charter'\, Times\, serif\; line-height: 19px\;"><span data-mce-style="color: #c0c0c0\;">Mother&#39\;s Day Three Course Prix Fixe Menu</span></h3>\n\n<p data-mce-style="text-align: center\;" style="color: rgb(51\, 51\, 51)\; font-family: Georgia\, 'Times New Roman'\, 'Bitstream Charter'\, Times\, serif\; font-size: 13px\; line-height: 19px\;"><span data-mce-style="color: #c0c0c0\;">$35 adults and $14 kids between 3-11 years old</span></p>\n\n<p data-mce-style="text-align: center\;" style="color: rgb(51\, 51\, 51)\; font-family: Georgia\, 'Times New Roman'\, 'Bitstream Charter'\, Times\, serif\; font-size: 13px\; line-height: 19px\;"><span data-mce-style="color: #c0c0c0\;">Open 10am-8pm\, &nbsp\;Sunday\, May 11th</span></p>\n\n<h3 class="Body" data-mce-style="text-align: center\;" style="color: rgb(51\, 51\, 51)\; font-family: Georgia\, 'Times New Roman'\, 'Bitstream Charter'\, Times\, serif\; line-height: 19px\;"><b><span lang="ES-TRAD">entradas</span></b></h3>\n\n<div class="page" style="color: rgb(51\, 51\, 51)\; font-family: Georgia\, 'Times New Roman'\, 'Bitstream Charter'\, Times\, serif\; font-size: 13px\; line-height: 19px\;" title="Page 1">\n<div class="layoutArea">\n<div class="column" data-mce-style="text-align: center\;"><span data-mce-style="color: #c0c0c0\;">ENSALADA DE PULPO</span></div>\n\n<div class="column" data-mce-style="text-align: center\;"><span data-mce-style="color: #c0c0c0\;"><span data-mce-style="font-style: italic\;" style="font-style: italic\;">octopus\, arugula\, sweet potato\, citrus vinaigrette&nbsp\;</span></span></div>\n</div>\n</div>\n\n<div class="page" style="color: rgb(51\, 51\, 51)\; font-family: Georgia\, 'Times New Roman'\, 'Bitstream Charter'\, Times\, serif\; font-size: 13px\; line-height: 19px\;" title="Page 1">\n<div class="layoutArea">\n<div class="column">&nbsp\;</div>\n\n<div class="column" data-mce-style="text-align: center\;"><span data-mce-style="color: #c0c0c0\;">ENSALADA DEL CHEF</span></div>\n\n<div class="column" data-mce-style="text-align: center\;"><span data-mce-style="font-style: italic\; color: #c0c0c0\;" style="font-style: italic\;">spinach\, beet\, goat cheese\, horseradish dressing&nbsp\;</span></div>\n</div>\n</div>\n\n<div class="page" style="color: rgb(51\, 51\, 51)\; font-family: Georgia\, 'Times New Roman'\, 'Bitstream Charter'\, Times\, serif\; font-size: 13px\; line-height: 19px\;" title="Page 1">\n<div class="layoutArea">\n<div class="column" data-mce-style="text-align: center\;">&nbsp\;</div>\n\n<div class="column" data-mce-style="text-align: center\;"><span data-mce-style="color: #c0c0c0\;">GUACAMOLE PERUANO</span></div>\n\n<div class="column" data-mce-style="text-align: center\;"><span data-mce-style="font-style: italic\; color: #c0c0c0\;" style="font-style: italic\;">avocado\, aji amarillo\, onion\, cilantro\, plantain&nbsp\;</span></div>\n\n<div class="column">\n<div class="page" title="Page 1">\n<div class="layoutArea">\n<div class="column" data-mce-style="text-align: center\;">&nbsp\;</div>\n\n<div class="column" data-mce-style="text-align: center\;"><span data-mce-style="color: #c0c0c0\;">CREPAS CON MARISCOS</span></div>\n\n<div class="column" data-mce-style="text-align: center\;"><span data-mce-style="font-style: italic\; color: #c0c0c0\;" style="font-style: italic\;">crepes\, mixed seafood\, creamy champagne sauce&nbsp\;</span></div>\n\n<div class="column" data-mce-style="text-align: center\;">&nbsp\;</div>\n\n<div class="column" data-mce-style="text-align: center\;"><span data-mce-style="color: #c0c0c0\;">&nbsp\; &nbsp\; &nbsp\; &nbsp\; &nbsp\; &nbsp\; &nbsp\; &nbsp\; PULPO A LA PLANCHA</span></div>\n\n<div class="column" data-mce-style="text-align: center\;"><span data-mce-style="color: #c0c0c0\;"><em>grilled octopus\, roasted potatoes\, grilled veggies</em></span></div>\n</div>\n</div>\n</div>\n</div>\n</div>\n\n<p data-mce-style="text-align: center\;" style="color: rgb(51\, 51\, 51)\; font-family: Georgia\, 'Times New Roman'\, 'Bitstream Charter'\, Times\, serif\; font-size: 13px\; line-height: 19px\;"><span data-mce-style="color: #c0c0c0\;">&nbsp\; &nbsp\; &nbsp\; &nbsp\; &nbsp\; &nbsp\; &nbsp\; &nbsp\;SALM&Oacute\;N BENEDICT</span></p>\n\n<p data-mce-style="text-align: center\;" style="color: rgb(51\, 51\, 51)\; font-family: Georgia\, 'Times New Roman'\, 'Bitstream Charter'\, Times\, serif\; font-size: 13px\; line-height: 19px\;"><span data-mce-style="color: #c0c0c0\;"><em>poached eggs\, smoked salmon\, arepa\, red onions\, capers\, hollandaise sauce\, roasted potatoes\, chorizo</em></span></p>\n\n<p data-mce-style="text-align: center\;" style="color: rgb(51\, 51\, 51)\; font-family: Georgia\, 'Times New Roman'\, 'Bitstream Charter'\, Times\, serif\; font-size: 13px\; line-height: 19px\;"><span data-mce-style="color: #c0c0c0\;">CANGREJO BENEDICT</span></p>\n\n<p data-mce-style="text-align: center\;" style="color: rgb(51\, 51\, 51)\; font-family: Georgia\, 'Times New Roman'\, 'Bitstream Charter'\, Times\, serif\; font-size: 13px\; line-height: 19px\;"><span data-mce-style="color: #c0c0c0\;"><em>poached eggs\, crab cake\, arepa\, aji amarillo hollandaise sauce\,&nbsp\;&nbsp\;&nbsp\; roasted potatoes\, chorizo</em></span></p>\n\n<p data-mce-style="text-align: center\;" style="color: rgb(51\, 51\, 51)\; font-family: Georgia\, 'Times New Roman'\, 'Bitstream Charter'\, Times\, serif\; font-size: 13px\; line-height: 19px\;"><span data-mce-style="color: #c0c0c0\;">CEVICHES</span></p>\n\n<p data-mce-style="text-align: center\;" style="color: rgb(51\, 51\, 51)\; font-family: Georgia\, 'Times New Roman'\, 'Bitstream Charter'\, Times\, serif\; font-size: 13px\; line-height: 19px\;"><span data-mce-style="color: #c0c0c0\;"><em>catch of the day\, aji amarillo\,&nbsp\;passion fruit sauce\, plantain chips</em></span></p>\n\n<div class="page" style="color: rgb(51\, 51\, 51)\; font-family: Georgia\, 'Times New Roman'\, 'Bitstream Charter'\, Times\, serif\; font-size: 13px\; line-height: 19px\;" title="Page 1">\n<div class="layoutArea">\n<div class="column">\n<p data-mce-style="text-align: center\;"><span data-mce-style="color: #c0c0c0\;">TOSTADA A LA FRANCESA CON ALBARICOQUE</span></p>\n\n<p data-mce-style="text-align: center\;"><span data-mce-style="color: #c0c0c0\;"><span data-mce-style="font-style: italic\;" style="font-style: italic\;">french toast\, roasted apricot french toast with sabanyon- apricot sauce</span></span></p>\n</div>\n</div>\n</div>\n\n<h3 class="Body" data-mce-style="text-align: center\;" style="color: rgb(51\, 51\, 51)\; font-family: Georgia\, 'Times New Roman'\, 'Bitstream Charter'\, Times\, serif\; line-height: 19px\;"><b><span lang="ES-TRAD">platos fuertes</span></b></h3>\n\n<p data-mce-style="text-align: center\;" style="color: rgb(51\, 51\, 51)\; font-family: Georgia\, 'Times New Roman'\, 'Bitstream Charter'\, Times\, serif\; font-size: 13px\; line-height: 19px\;"><span data-mce-style="color: #c0c0c0\;">ROCOTO RELLENO</span></p>\n\n<p data-mce-style="text-align: center\;" style="color: rgb(51\, 51\, 51)\; font-family: Georgia\, 'Times New Roman'\, 'Bitstream Charter'\, Times\, serif\; font-size: 13px\; line-height: 19px\;"><span data-mce-style="color: #c0c0c0\;"><em>red pepper stuffed with quinoa\, mushrooms\, kale\, carrots\,&nbsp\;&nbsp\;&nbsp\;&nbsp\;&nbsp\;&nbsp\; butternut squash\, smoked provolone cheese</em></span></p>\n\n<p data-mce-style="text-align: center\;" style="color: rgb(51\, 51\, 51)\; font-family: Georgia\, 'Times New Roman'\, 'Bitstream Charter'\, Times\, serif\; font-size: 13px\; line-height: 19px\;"><span data-mce-style="color: #c0c0c0\;">SALM&Oacute\;N DE PASI&Oacute\;N</span></p>\n\n<p data-mce-style="text-align: center\;" style="color: rgb(51\, 51\, 51)\; font-family: Georgia\, 'Times New Roman'\, 'Bitstream Charter'\, Times\, serif\; font-size: 13px\; line-height: 19px\;"><span data-mce-style="color: #c0c0c0\;">grilled salmon\, quinoa\, julienne veggies\, aji amarillo&nbsp\;</span><span data-mce-style="color: #c0c0c0\;">passion fruit sauce\, truffle butter&nbsp\;</span></p>\n\n<p data-mce-style="text-align: center\;" style="color: rgb(51\, 51\, 51)\; font-family: Georgia\, 'Times New Roman'\, 'Bitstream Charter'\, Times\, serif\; font-size: 13px\; line-height: 19px\;"><span data-mce-style="color: #c0c0c0\;">ENTRA&Ntilde\;A Y HUEVOS</span></p>\n\n<p data-mce-style="text-align: center\;" style="color: rgb(51\, 51\, 51)\; font-family: Georgia\, 'Times New Roman'\, 'Bitstream Charter'\, Times\, serif\; font-size: 13px\; line-height: 19px\;"><span data-mce-style="color: #c0c0c0\;">skirt steak\, two eggs\, mashed potatoes or rice\, guacamole\,</span>&nbsp\;<span data-mce-style="color: #c0c0c0\;">chimichurri sauce&nbsp\;</span></p>\n\n<p data-mce-style="text-align: center\;" style="color: rgb(51\, 51\, 51)\; font-family: Georgia\, 'Times New Roman'\, 'Bitstream Charter'\, Times\, serif\; font-size: 13px\; line-height: 19px\;"><span data-mce-style="color: #c0c0c0\;">CORDERO PATAG&Oacute\;NICO</span></p>\n\n<p data-mce-style="text-align: center\;" style="color: rgb(51\, 51\, 51)\; font-family: Georgia\, 'Times New Roman'\, 'Bitstream Charter'\, Times\, serif\; font-size: 13px\; line-height: 19px\;"><span data-mce-style="color: #c0c0c0\;">grilled lamb chops\, brussels sprouts\, polenta\, &nbsp\;rosemary lamb jus&nbsp\;</span></p>\n\n<p data-mce-style="text-align: center\;" style="color: rgb(51\, 51\, 51)\; font-family: Georgia\, 'Times New Roman'\, 'Bitstream Charter'\, Times\, serif\; font-size: 13px\; line-height: 19px\;"><span data-mce-style="color: #c0c0c0\;">MALBEC MIGNON</span></p>\n\n<p data-mce-style="text-align: center\;" style="color: rgb(51\, 51\, 51)\; font-family: Georgia\, 'Times New Roman'\, 'Bitstream Charter'\, Times\, serif\; font-size: 13px\; line-height: 19px\;"><span data-mce-style="color: #c0c0c0\;">filet mignon\, purple peruvian mashed potatoes\, &nbsp\;red &amp\; yellow pepper\, grilled asparagus\, paprika oil\, malbec sauce&nbsp\;</span></p>\n\n<p data-mce-style="text-align: center\;" style="color: rgb(51\, 51\, 51)\; font-family: Georgia\, 'Times New Roman'\, 'Bitstream Charter'\, Times\, serif\; font-size: 13px\; line-height: 19px\;"><span data-mce-style="color: #c0c0c0\;">CONFIT DE PATO</span></p>\n\n<p data-mce-style="text-align: center\;" style="color: rgb(51\, 51\, 51)\; font-family: Georgia\, 'Times New Roman'\, 'Bitstream Charter'\, Times\, serif\; font-size: 13px\; line-height: 19px\;"><span data-mce-style="color: #c0c0c0\;"><em>duck breast and confit\, lentils\, ahi amarillo-red wine sauce</em></span></p>\n\n<h3 class="Body" data-mce-style="text-align: center\;" style="color: rgb(51\, 51\, 51)\; font-family: Georgia\, 'Times New Roman'\, 'Bitstream Charter'\, Times\, serif\; line-height: 19px\;">dessert<br />\n<br />\n<span style="font-size: 12px\;">** Beverages\, Tax &amp\; gratuity&nbsp\;are not included in the price</span></h3>\n
LOCATION:Artango Bistro
UID:e.1819.278
SEQUENCE:3
DTSTAMP:20260424T122012Z
URL:https://members.lakeviewroscoevillage.org/events/details/mother-s-day-brunch-and-dinner-at-artango-south-american-bistro-05-11-2014-278
END:VEVENT

END:VCALENDAR
