BEGIN:VCALENDAR
VERSION:2.0
PRODID:-//ChamberMaster//Event Calendar 2.0//EN
METHOD:PUBLISH
X-PUBLISHED-TTL:P3D
REFRESH-INTERVAL:P3D
CALSCALE:GREGORIAN
BEGIN:VEVENT
DTSTART:20160508T140000Z
DTEND:20160508T160000Z
X-MICROSOFT-CDO-ALLDAYEVENT:FALSE
SUMMARY:Mother's Day Morning Painting Party
DESCRIPTION:Cheers to making this Mother's Day an incredibly fun and special day for Mom!  What's better than spending quality time together painting?  Treat Mom to a unique event just for her -- the smiles come easy with this creative adventure at Bottle & Bottega.\n\nJoin us at our *BYOB* studio as we paint a piece by a local artist! Ticket price includes use of all necessary paint supplies and aprons\, instruction\, and a 11x14 take-home canvas! \n\n \n\n9:00am - 9:30am BYOB Cocktail Reception \n\n9:30am - 11:00am Painting
X-ALT-DESC;FMTTYPE=text/html:<p><span style="color:rgb(255\, 0\, 0)"><strong>Cheers to making this Mother&rsquo\;s Day an&nbsp\;incredibly fun and special day for Mom!&nbsp\;</strong></span>&nbsp\;What&#39\;s better than spending quality time together painting? &nbsp\;Treat Mom to a&nbsp\;unique event just for her -- the smiles come easy with this creative adventure at Bottle &amp\; Bottega.</p>\n\n<p><span style="background-color:inherit">Join us at our *BYOB* studio as we paint a piece by a local artist! Ticket price includes&nbsp\;</span><span style="background-color:inherit">use of&nbsp\;</span><span style="background-color:inherit">all&nbsp\;</span><span style="background-color:inherit">necessary&nbsp\;</span><span style="background-color:inherit">paint supplies</span><span style="background-color:inherit">&nbsp\;and aprons</span><span style="background-color:inherit">\, instruction\,&nbsp\;</span><span style="background-color:inherit">and a 11x14&nbsp\;take-home canvas!</span>&nbsp\;<br />\n&nbsp\;<br />\n<strong>9:00am - 9:30am&nbsp\;</strong><span style="background-color:inherit">BYOB&nbsp\;</span><span style="background-color:inherit">Cocktail Reception</span>&nbsp\;<br />\n<strong>9:30am - 11</strong><strong>:00am&nbsp\;</strong><span style="background-color:inherit">Painting&nbsp\;</span></p>\n
LOCATION:Bottle & Bottega Lakeview
UID:e.1819.2889
SEQUENCE:3
DTSTAMP:20260422T115213Z
URL:https://members.lakeviewroscoevillage.org/events/details/mother-s-day-morning-painting-party-05-08-2016-2889
END:VEVENT

END:VCALENDAR
