BEGIN:VCALENDAR
VERSION:2.0
PRODID:-//ChamberMaster//Event Calendar 2.0//EN
METHOD:PUBLISH
X-PUBLISHED-TTL:P3D
REFRESH-INTERVAL:P3D
CALSCALE:GREGORIAN
BEGIN:VEVENT
DTSTART:20160424T170000Z
DTEND:20160424T190000Z
X-MICROSOFT-CDO-ALLDAYEVENT:FALSE
SUMMARY:Mother's To Be
DESCRIPTION:Pregnancy is a time for joy and excitement\, but it also brings new challenges!  Join us for a FREE open house to learn how we can help promote a safe\, healthy and vibrant pregnancy!  In this 2 hour\, active and informative open house\, we will cover how Aligned Modern Health can support wellness for mom and baby throughout all stages of your pregnancy!  Snacks and light refreshments provided.\n\n	Acupuncture for a Healthy Pregnancy\n	Functional Medicine and Clinical Nutrition:  Optimal Nutrition for Pregnancy and Beyond\n	Chiropractic Physical Medicine:  Prenatal Exercises and The Webster Technique\n\nRSVP:  https://springintomotherhood.eventbrite.com\n\nQuestions\, please call:  773-248-2544
X-ALT-DESC;FMTTYPE=text/html:Pregnancy is a time for joy and excitement\, but it also brings new challenges!&nbsp\; Join us for a FREE open house to learn how we can help promote a safe\, healthy and vibrant pregnancy!&nbsp\; In this 2 hour\, active and informative&nbsp\;open house\, we will cover how Aligned Modern Health can support wellness for mom and baby throughout all stages of your pregnancy!&nbsp\; Snacks and light refreshments provided.\n<ul>\n	<li>Acupuncture for a Healthy Pregnancy</li>\n	<li>Functional Medicine and Clinical Nutrition: &nbsp\;Optimal Nutrition for Pregnancy and Beyond</li>\n	<li>Chiropractic&nbsp\;Physical Medicine: &nbsp\;Prenatal Exercises and The Webster Technique</li>\n</ul>\nRSVP: &nbsp\;<a href="https://springintomotherhood.eventbrite.com" target="_blank">https://springintomotherhood.eventbrite.com</a>\n\n<div>Questions\, please call: &nbsp\;<span style="font-size:13px"><a href="tel:773-248-2544" target="_blank">773-248-2544</a></span></div>\n
LOCATION:Aligned Modern Health - 3514 N. Southport Ave.
UID:e.1819.2875
SEQUENCE:3
DTSTAMP:20260422T151255Z
URL:https://members.lakeviewroscoevillage.org/events/details/mother-s-to-be-04-24-2016-2875
END:VEVENT

END:VCALENDAR
