BEGIN:VCALENDAR
VERSION:2.0
PRODID:-//ChamberMaster//Event Calendar 2.0//EN
METHOD:PUBLISH
X-PUBLISHED-TTL:P3D
REFRESH-INTERVAL:P3D
CALSCALE:GREGORIAN
BEGIN:VEVENT
DTSTART:20131119T143000Z
DTEND:20131119T160000Z
X-MICROSOFT-CDO-ALLDAYEVENT:FALSE
SUMMARY:Multi Chamber Forum on the Affordable Health Care Act and Small Businesses
DESCRIPTION:Featuring a panel of experts to help you take advantage of new tax incentives and health care options for small business.
X-ALT-DESC;FMTTYPE=text/html:Featuring a panel of experts to help you take advantage of new tax incentives and health care options for small business.
LOCATION:Presence St Joseph Hospital 2900 N. Lakeshore Dr. Boikan Conference Room\, 2nd Floor
UID:e.1819.113
SEQUENCE:3
DTSTAMP:20260424T224947Z
URL:https://members.lakeviewroscoevillage.org/events/details/multi-chamber-forum-on-the-affordable-health-care-act-and-small-businesses-11-19-2013-113
END:VEVENT

END:VCALENDAR
