BEGIN:VCALENDAR
VERSION:2.0
PRODID:-//ChamberMaster//Event Calendar 2.0//EN
METHOD:PUBLISH
X-PUBLISHED-TTL:P3D
REFRESH-INTERVAL:P3D
CALSCALE:GREGORIAN
BEGIN:VEVENT
DTSTART:20141002T223000Z
DTEND:20141003T010000Z
X-MICROSOFT-CDO-ALLDAYEVENT:FALSE
SUMMARY:Multi-Chamber Happy Hour
DESCRIPTION:Enjoy food and drinks while networking with other local businesses! Register to win several great prizes! RSVP by Monday September 29 to Mark Knight (708) 485-8052 or mknight@banksbc.com.
X-ALT-DESC;FMTTYPE=text/html:Enjoy food and drinks while networking with other local businesses! Register to win several great prizes! RSVP by Monday September 29 to Mark Knight (708) 485-8052 or mknight@banksbc.com.
LOCATION:Halsted Flats-Amenity Deck 3740 N. Halsted
UID:e.1819.363
SEQUENCE:3
DTSTAMP:20260423T224647Z
URL:https://members.lakeviewroscoevillage.org/events/details/multi-chamber-happy-hour-10-02-2014-363
END:VEVENT

END:VCALENDAR
