BEGIN:VCALENDAR
VERSION:2.0
PRODID:-//ChamberMaster//Event Calendar 2.0//EN
METHOD:PUBLISH
X-PUBLISHED-TTL:P3D
REFRESH-INTERVAL:P3D
CALSCALE:GREGORIAN
BEGIN:VEVENT
DTSTART:20130725T223000Z
DTEND:20130726T003000Z
X-MICROSOFT-CDO-ALLDAYEVENT:FALSE
SUMMARY:Multi - Chamber Networking Event
DESCRIPTION:The Lincoln Park\, Lakeview and Roscoe Village Chambers of Commerce invite you to join us for a mid-summer\, poolside networking event. \n\n\n\n\n\nEnjoy luxe surroundings\, summer tastes and drinks as you kick back and watch the sun go down at SoNo East's poolside lounge. This unique Business After Hours is the perfect setting to connect with business professionals from the north side of Chicago.\n\n\n\n\n\nTo register for this event\, click here.
X-ALT-DESC;FMTTYPE=text/html:The Lincoln Park\,&nbsp\;Lakeview and Roscoe Village Chambers of Commerce invite you to join us for a&nbsp\;mid-summer\, poolside networking event.&nbsp\;<br />\n<br />\n<br />\nEnjoy luxe surroundings\, summer&nbsp\;tastes and drinks&nbsp\;as you kick back and watch the sun go down&nbsp\;at SoNo East&#39\;s poolside lounge.&nbsp\;This unique Business After Hours&nbsp\;is the perfect setting to connect with&nbsp\;business professionals from the north side of&nbsp\;Chicago.<br />\n<br />\n<br />\nTo&nbsp\;register for this event\, <a href="http://members.lincolnparkchamber.com/events/details/lincoln-park-lakeview-roscoe-village-joint-chamber-poolside-after-hours-475">click here</a>.
LOCATION:SoNo East Residences 842 W. Blackhawk
UID:e.1819.10
SEQUENCE:3
DTSTAMP:20260425T040845Z
URL:https://members.lakeviewroscoevillage.org/events/details/multi-chamber-networking-event-07-25-2013-10
END:VEVENT

END:VCALENDAR
