BEGIN:VCALENDAR
VERSION:2.0
PRODID:-//ChamberMaster//Event Calendar 2.0//EN
METHOD:PUBLISH
X-PUBLISHED-TTL:P3D
REFRESH-INTERVAL:P3D
CALSCALE:GREGORIAN
BEGIN:VEVENT
DTSTART:20131019T170000Z
DTEND:20131020T170000Z
X-MICROSOFT-CDO-ALLDAYEVENT:FALSE
SUMMARY:Music Box of Horrors 2013
DESCRIPTION:The 2013 Music Box of Horrors will be an amazing 24 hours of horror films and entertainment. More films and guests will continue to be announced as they are confirmed.\n\n	Guests booked thus far:\n\n	\n		William Lustig (Maniac\, Vigilante)   presenting new restoration of Maniac Cop 2!\n	\n		David Schmoeller (Puppetmaster\, Tourist Trap)   presenting killer Klaus Kinski in Crawlspace!\n\n\n	\n		The 24-hour marathon of horror returns this October with new thrills and chills! For one 24-hour period every October\, the Music Box welcomes fearless moviegoers as it is transformed into the  Music Box of Horrors. Saturday\, Oct 19 noon   Sunday\, October 20 noon.\n	\n		Highlights:\n	\n		\n			William Lustig (Maniac\, Vigilante)   presenting new restoration of Maniac Cop 2!\n		\n			David Schmoeller (Puppetmaster\, Tourist Trap)   presenting killer Klaus Kinski in Crawlspace!\n	\n	\n		Films to include:\n	\n		\n			Child's Play   Terror in Lincoln Park!\n		\n			Night Monster   Rare Bela Lugosi\n		\n			Possession   A film about a woman who does what with an octopus?\n		\n			Terrorvision   First screening ever of this vintage print\n	\n	\n		More to be announced!
X-ALT-DESC;FMTTYPE=text/html:<p style="margin: 0px 0px 2ex\; padding: 0px 5px\; border: 0px\; font-weight: bold\; font-family: Arial\, Helvetica\, sans-serif\; vertical-align: baseline\; color: rgb(51\, 51\, 51)\; line-height: 18px\;">\n	The 2013 Music Box of Horrors will be an amazing 24 hours of horror films and entertainment. More films and guests will continue to be announced as they are confirmed.</p>\n<p style="margin: 0px 0px 2ex\; padding: 0px 5px\; border: 0px\; font-weight: bold\; font-family: Arial\, Helvetica\, sans-serif\; vertical-align: baseline\; color: rgb(51\, 51\, 51)\; line-height: 18px\;">\n	Guests booked thus far:</p>\n<ul style="margin: 0px 0px 18px 1em\; padding-right: 5px\; padding-left: 5px\; border: 0px\; font-weight: bold\; font-family: Arial\, Helvetica\, sans-serif\; vertical-align: baseline\; color: rgb(51\, 51\, 51)\; line-height: 18px\;">\n	<li style="margin: 0px\; padding: 0px\; border: 0px\; font-weight: inherit\; font-style: inherit\; font-family: inherit\; vertical-align: baseline\;">\n		William Lustig (<cite style="font-family: Georgia\, 'Times New Roman'\, Times\, serif\;">Maniac</cite>\,&nbsp\;<cite style="font-family: Georgia\, 'Times New Roman'\, Times\, serif\;">Vigilante</cite>) &ndash\; presenting new restoration of&nbsp\;<cite style="font-family: Georgia\, 'Times New Roman'\, Times\, serif\;">Maniac Cop 2</cite>!</li>\n	<li style="margin: 0px\; padding: 0px\; border: 0px\; font-weight: inherit\; font-style: inherit\; font-family: inherit\; vertical-align: baseline\;">\n		David Schmoeller (<cite style="font-family: Georgia\, 'Times New Roman'\, Times\, serif\;">Puppetmaster</cite>\,&nbsp\;<cite style="font-family: Georgia\, 'Times New Roman'\, Times\, serif\;">Tourist Trap</cite>) &ndash\; presenting killer Klaus Kinski in&nbsp\;<cite style="font-family: Georgia\, 'Times New Roman'\, Times\, serif\;">Crawlspace</cite>!</li>\n</ul>\n<div style="margin: 0px\; padding: 0px\; border: 0px\; font-weight: inherit\; font-style: inherit\; font-family: inherit\; vertical-align: baseline\;">\n	<p style="margin: 2ex 0px 0px\; padding: 0px 5px\; border: 0px\; font-family: Arial\, Helvetica\, sans-serif\; vertical-align: baseline\; color: rgb(51\, 51\, 51)\; line-height: 18px\;">\n		The 24-hour marathon of horror returns this October with new thrills and chills! For one 24-hour period every October\, the Music Box welcomes fearless moviegoers as it is transformed into the&hellip\; Music Box of Horrors. Saturday\, Oct 19 noon &ndash\; Sunday\, October 20 noon.</p>\n	<p style="margin: 2ex 0px 0px\; padding: 0px 5px\; border: 0px\; font-family: Arial\, Helvetica\, sans-serif\; vertical-align: baseline\; color: rgb(51\, 51\, 51)\; line-height: 18px\;">\n		Highlights:</p>\n	<ul style="margin: 0px 0px 18px 1em\; padding-right: 5px\; padding-left: 5px\; border: 0px\; font-family: Arial\, Helvetica\, sans-serif\; vertical-align: baseline\; color: rgb(51\, 51\, 51)\; line-height: 18px\;">\n		<li style="margin: 0px\; padding: 0px\; border: 0px\; font-style: inherit\; font-family: inherit\; vertical-align: baseline\;">\n			William Lustig (<cite style="font-family: Georgia\, 'Times New Roman'\, Times\, serif\; font-weight: bold !important\;">Maniac</cite>\,&nbsp\;<cite style="font-family: Georgia\, 'Times New Roman'\, Times\, serif\; font-weight: bold !important\;">Vigilante</cite>) &ndash\; presenting new restoration of&nbsp\;<cite style="font-family: Georgia\, 'Times New Roman'\, Times\, serif\; font-weight: bold !important\;">Maniac Cop 2</cite>!</li>\n		<li style="margin: 0px\; padding: 0px\; border: 0px\; font-style: inherit\; font-family: inherit\; vertical-align: baseline\;">\n			David Schmoeller (<cite style="font-family: Georgia\, 'Times New Roman'\, Times\, serif\; font-weight: bold !important\;">Puppetmaster</cite>\,&nbsp\;<cite style="font-family: Georgia\, 'Times New Roman'\, Times\, serif\; font-weight: bold !important\;">Tourist Trap</cite>) &ndash\; presenting killer Klaus Kinski in&nbsp\;<cite style="font-family: Georgia\, 'Times New Roman'\, Times\, serif\; font-weight: bold !important\;">Crawlspace</cite>!</li>\n	</ul>\n	<p style="margin: 2ex 0px 0px\; padding: 0px 5px\; border: 0px\; font-family: Arial\, Helvetica\, sans-serif\; vertical-align: baseline\; color: rgb(51\, 51\, 51)\; line-height: 18px\;">\n		Films to include:</p>\n	<ul style="margin: 0px 0px 18px 1em\; padding-right: 5px\; padding-left: 5px\; border: 0px\; font-family: Arial\, Helvetica\, sans-serif\; vertical-align: baseline\; color: rgb(51\, 51\, 51)\; line-height: 18px\;">\n		<li style="margin: 0px\; padding: 0px\; border: 0px\; font-style: inherit\; font-family: inherit\; vertical-align: baseline\;">\n			<cite style="font-family: Georgia\, 'Times New Roman'\, Times\, serif\; font-weight: bold !important\;">Child&rsquo\;s Play</cite>&nbsp\;&ndash\; Terror in Lincoln Park!</li>\n		<li style="margin: 0px\; padding: 0px\; border: 0px\; font-style: inherit\; font-family: inherit\; vertical-align: baseline\;">\n			<cite style="font-family: Georgia\, 'Times New Roman'\, Times\, serif\; font-weight: bold !important\;">Night Monster</cite>&nbsp\;&ndash\; Rare Bela Lugosi</li>\n		<li style="margin: 0px\; padding: 0px\; border: 0px\; font-style: inherit\; font-family: inherit\; vertical-align: baseline\;">\n			<cite style="font-family: Georgia\, 'Times New Roman'\, Times\, serif\; font-weight: bold !important\;">Possession</cite>&nbsp\;&ndash\; A film about a woman who does&nbsp\;<em style="margin: 0px\; padding: 0px\; border: 0px\; font-family: inherit\; vertical-align: baseline\;">what</em>&nbsp\;with an octopus?</li>\n		<li style="margin: 0px\; padding: 0px\; border: 0px\; font-style: inherit\; font-family: inherit\; vertical-align: baseline\;">\n			<cite style="font-family: Georgia\, 'Times New Roman'\, Times\, serif\; font-weight: bold !important\;">Terrorvision</cite>&nbsp\;&ndash\; First screening&nbsp\;<em style="margin: 0px\; padding: 0px\; border: 0px\; font-family: inherit\; vertical-align: baseline\;">ever</em>&nbsp\;of this vintage print</li>\n	</ul>\n	<p style="margin: 2ex 0px 0px\; padding: 0px 5px\; border: 0px\; font-family: Arial\, Helvetica\, sans-serif\; vertical-align: baseline\; color: rgb(51\, 51\, 51)\; line-height: 18px\;">\n		More to be announced!</p>\n</div>\n<br />\n
LOCATION:Music Box Theatre
UID:e.1819.62
SEQUENCE:3
DTSTAMP:20260425T004115Z
URL:https://members.lakeviewroscoevillage.org/events/details/music-box-of-horrors-2013-10-19-2013-62
END:VEVENT

END:VCALENDAR
