BEGIN:VCALENDAR
VERSION:2.0
PRODID:-//ChamberMaster//Event Calendar 2.0//EN
METHOD:PUBLISH
X-PUBLISHED-TTL:P3D
REFRESH-INTERVAL:P3D
CALSCALE:GREGORIAN
BEGIN:VEVENT
DTSTART:20130927T003000Z
DTEND:20130927T020000Z
X-MICROSOFT-CDO-ALLDAYEVENT:FALSE
SUMMARY:MUSIC BOX THEATRE and The Book Cellar presents Alice McDermott
DESCRIPTION:The Music Box Theatre and The Book Cellar present National Book Award-winning author Alice McDermott.\n\n\n	Join us for an evening with National Book Award recipient Alice McDermott as we launch her new book Someone. An ordinary life its sharp pains and unexpected joys\, its bursts of clarity and moments of confusion lived by an ordinary woman: this is the subject of Someone\, Alice McDermott's extraordinary return\, seven years after the publication of After This. Scattered recollections of childhood\, adolescence\, motherhood\, old age come together in this transformative narrative\, stitched into a vibrant whole by McDermott's deft\, lyrical voice.\n\n	Books will be provided at the event by The Book Cellar.
X-ALT-DESC;FMTTYPE=text/html:<div id="blurb" style="margin: 0px 0px 2ex\; padding: 0px\; border: 0px\; font-weight: bold\; font-family: Arial\, Helvetica\, sans-serif\; vertical-align: baseline\; color: rgb(51\, 51\, 51)\; line-height: 18px\;">\n	<p style="margin: 0px 0px 2ex\; padding: 0px 5px\; border: 0px\; font-weight: inherit\; font-style: inherit\; font-family: inherit\; vertical-align: baseline\;">\n		The Music Box Theatre and The Book Cellar present National Book Award-winning author Alice McDermott.</p>\n</div>\n<p style="margin: 2ex 0px 0px\; padding: 0px 5px\; border: 0px\; font-family: Arial\, Helvetica\, sans-serif\; vertical-align: baseline\; color: rgb(51\, 51\, 51)\; line-height: 18px\;">\n	Join us for an evening with National Book Award recipient Alice McDermott as we launch her new book&nbsp\;<cite style="font-family: Georgia\, 'Times New Roman'\, Times\, serif\; font-weight: bold !important\;">Someone</cite>. An ordinary life&mdash\;its sharp pains and unexpected joys\, its bursts of clarity and moments of confusion&mdash\;lived by an ordinary woman: this is the subject of&nbsp\;<cite style="font-family: Georgia\, 'Times New Roman'\, Times\, serif\; font-weight: bold !important\;">Someone</cite>\, Alice McDermott&rsquo\;s extraordinary return\, seven years after the publication of&nbsp\;<cite style="font-family: Georgia\, 'Times New Roman'\, Times\, serif\; font-weight: bold !important\;">After This</cite>. Scattered recollections&mdash\;of childhood\, adolescence\, motherhood\, old age&mdash\;come together in this transformative narrative\, stitched into a vibrant whole by McDermott&rsquo\;s deft\, lyrical voice.</p>\n<p style="margin: 2ex 0px 0px\; padding: 0px 5px\; border: 0px\; font-family: Arial\, Helvetica\, sans-serif\; vertical-align: baseline\; color: rgb(51\, 51\, 51)\; line-height: 18px\;">\n	Books will be provided at the event by The Book Cellar.</p>\n
LOCATION:Music Box Theatre
UID:e.1819.58
SEQUENCE:3
DTSTAMP:20260425T004455Z
URL:https://members.lakeviewroscoevillage.org/events/details/music-box-theatre-and-the-book-cellar-presents-alice-mcdermott-09-26-2013-58
END:VEVENT

END:VCALENDAR
