BEGIN:VCALENDAR
VERSION:2.0
PRODID:-//ChamberMaster//Event Calendar 2.0//EN
METHOD:PUBLISH
X-PUBLISHED-TTL:P3D
REFRESH-INTERVAL:P3D
CALSCALE:GREGORIAN
BEGIN:VEVENT
DTSTART:20131004T230000Z
DTEND:20131005T020000Z
X-MICROSOFT-CDO-ALLDAYEVENT:FALSE
SUMMARY:MUSIC BOX THEATRE and Unabridged Bookstore presents the Return of Nick Offerman
DESCRIPTION:Nick Offerman presents his new book\, Paddle Your Own Canoe!\n\n\n	Join Unabridged Bookstore in conjunction with The Music Box Theatre as we play host to sensational funny man Nick Offerman in support of his forthcoming book\, Paddle Your Own Canoe. This will be an amazing home-coming for Offerman as he returns to the city that gave him his start. Do not miss the event of the Fall.\n\n	The event lasts from 6pm-9pm.\n\n	Parks and Recreation actor Nick Offerman shares his humorous fulminations on life\, manliness\, meat\, and much more in his first book.\n\n	A mix of amusing anecdotes\, opinionated lessons and rants\, sprinkled with offbeat gaiety\, Paddle Your Own Canoe will not only tickle readers pink but may also rouse them to put down their smart phones\, study a few sycamore leaves\, and maybe even hand craft (and paddle) their own canoes.
X-ALT-DESC;FMTTYPE=text/html:<div id="blurb" style="margin: 0px 0px 2ex\; padding: 0px\; border: 0px\; font-weight: bold\; font-family: Arial\, Helvetica\, sans-serif\; vertical-align: baseline\; color: rgb(51\, 51\, 51)\; line-height: 18px\;">\n	<p style="margin: 0px 0px 2ex\; padding: 0px 5px\; border: 0px\; font-weight: inherit\; font-style: inherit\; font-family: inherit\; vertical-align: baseline\;">\n		Nick Offerman presents his new book\,&nbsp\;<cite style="font-family: Georgia\, 'Times New Roman'\, Times\, serif\;">Paddle Your Own Canoe!</cite></p>\n</div>\n<p style="margin: 2ex 0px 0px\; padding: 0px 5px\; border: 0px\; font-family: Arial\, Helvetica\, sans-serif\; vertical-align: baseline\; color: rgb(51\, 51\, 51)\; line-height: 18px\;">\n	Join Unabridged Bookstore in conjunction with The Music Box Theatre as we play host to sensational funny man Nick Offerman in support of his forthcoming book\,&nbsp\;<cite style="font-family: Georgia\, 'Times New Roman'\, Times\, serif\; font-weight: bold !important\;">Paddle Your Own Canoe</cite>. This will be an amazing home-coming for Offerman as he returns to the city that gave him his start. Do not miss the event of the Fall.</p>\n<p style="margin: 2ex 0px 0px\; padding: 0px 5px\; border: 0px\; font-family: Arial\, Helvetica\, sans-serif\; vertical-align: baseline\; color: rgb(51\, 51\, 51)\; line-height: 18px\;">\n	The event lasts from 6pm-9pm.</p>\n<p style="margin: 2ex 0px 0px\; padding: 0px 5px\; border: 0px\; font-family: Arial\, Helvetica\, sans-serif\; vertical-align: baseline\; color: rgb(51\, 51\, 51)\; line-height: 18px\;">\n	<cite style="font-family: Georgia\, 'Times New Roman'\, Times\, serif\; font-weight: bold !important\;">Parks and Recreation</cite>&nbsp\;actor Nick Offerman shares his humorous fulminations on life\, manliness\, meat\, and much more in his first book.</p>\n<p style="margin: 2ex 0px 0px\; padding: 0px 5px\; border: 0px\; font-family: Arial\, Helvetica\, sans-serif\; vertical-align: baseline\; color: rgb(51\, 51\, 51)\; line-height: 18px\;">\n	A mix of amusing anecdotes\, opinionated lessons and rants\, sprinkled with offbeat gaiety\,&nbsp\;<cite style="font-family: Georgia\, 'Times New Roman'\, Times\, serif\; font-weight: bold !important\;">Paddle Your Own Canoe</cite>&nbsp\;will not only tickle readers pink but may also rouse them to put down their smart phones\, study a few sycamore leaves\, and maybe even hand craft (and paddle) their own canoes.</p>\n
LOCATION:Music Box Theatre
UID:e.1819.59
SEQUENCE:3
DTSTAMP:20260424T224801Z
URL:https://members.lakeviewroscoevillage.org/events/details/music-box-theatre-and-unabridged-bookstore-presents-the-return-of-nick-offerman-10-04-2013-59
END:VEVENT

END:VCALENDAR
