BEGIN:VCALENDAR
VERSION:2.0
PRODID:-//ChamberMaster//Event Calendar 2.0//EN
METHOD:PUBLISH
X-PUBLISHED-TTL:P3D
REFRESH-INTERVAL:P3D
CALSCALE:GREGORIAN
BEGIN:VEVENT
DTSTART;VALUE=DATE:20140509
DTEND;VALUE=DATE:20140516
TRANSP:TRANSPARENT
X-MICROSOFT-CDO-ALLDAYEVENT:TRUE
SUMMARY:Music Box Theatre Chicago Critics Film Festival
DESCRIPTION:Created by the Chicago Film Critics Association (CFCA) in 2013\, this weeklong celebration of film features the Chicago premieres of over 20 favorites from Sundance\, SXSW\, Slamdance and other acclaimed festivals. In addition to two short-film programs\, it includes the latest works from directors David Wain\, Mike Cahill\, Michel Gondry and Ari Folman as well as stars such as Paul Rudd\, Amy Poehler\, Robin Wright\, Nick Offerman and Brit Marling. Appearing at this year's festival are special guests David Wain\, Shep Gordon\, Dick Miller\, Martin Starr\, Bobcat Goldthwait and many more!
X-ALT-DESC;FMTTYPE=text/html:Created by the Chicago Film Critics Association (<span class="caps">CFCA</span>) in 2013\, this weeklong celebration of film features the Chicago premieres of over 20 favorites from Sundance\, <span class="caps">SXSW</span>\, Slamdance and other acclaimed festivals. In addition to two short-film programs\, it includes the latest works from directors David Wain\, Mike Cahill\, Michel Gondry and Ari Folman as well as stars such as Paul Rudd\, Amy Poehler\, Robin Wright\, Nick Offerman and Brit Marling. <ins>Appearing at this year&rsquo\;s festival are special guests David Wain\, Shep Gordon\, Dick Miller\, Martin Starr\, Bobcat Goldthwait and many more!</ins>
LOCATION:Music Box Theatre 3733 N. Southport Ave Chicago\, IL 60613
UID:e.1819.276
SEQUENCE:3
DTSTAMP:20260424T100308Z
URL:https://members.lakeviewroscoevillage.org/events/details/music-box-theatre-chicago-critics-film-festival-05-09-2014-276
END:VEVENT

END:VCALENDAR
