BEGIN:VCALENDAR
VERSION:2.0
PRODID:-//ChamberMaster//Event Calendar 2.0//EN
METHOD:PUBLISH
X-PUBLISHED-TTL:P3D
REFRESH-INTERVAL:P3D
CALSCALE:GREGORIAN
BEGIN:VEVENT
DTSTART:20140523T050000Z
DTEND:20140523T063500Z
X-MICROSOFT-CDO-ALLDAYEVENT:FALSE
SUMMARY:Music Box Theatre Presents "The Room"
DESCRIPTION:Uninhibited by cinematic convention\, this quirky cult favorite about lust and duplicity delivers nonstop laughs from beginning to end as the film's central character (writer-director Tommy Wiseau) discovers that his foxy fianc e\, Lisa (Juliette Danielle)\, is bedding his best friend. Adding to the hilarity are Greg Sestero\, who plays the backstabbing buddy\, and Carolyn Minnott as Lisa's materialistic mom.
X-ALT-DESC;FMTTYPE=text/html:Uninhibited by cinematic convention\, this quirky cult favorite about lust and duplicity delivers nonstop laughs from beginning to end as the film&rsquo\;s central character (writer-director Tommy Wiseau) discovers that his foxy fianc&eacute\;e\, Lisa (Juliette Danielle)\, is bedding his best friend. Adding to the hilarity are Greg Sestero\, who plays the backstabbing buddy\, and Carolyn Minnott as Lisa&rsquo\;s materialistic mom.
LOCATION:The Music Box Theatre 3733 N. Southport Ave Chicago\, IL 60613
UID:e.1819.277
SEQUENCE:3
DTSTAMP:20260424T100015Z
URL:https://members.lakeviewroscoevillage.org/events/details/music-box-theatre-presents-the-room-05-23-2014-277
END:VEVENT

END:VCALENDAR
