BEGIN:VCALENDAR
VERSION:2.0
PRODID:-//ChamberMaster//Event Calendar 2.0//EN
METHOD:PUBLISH
X-PUBLISHED-TTL:P3D
REFRESH-INTERVAL:P3D
CALSCALE:GREGORIAN
BEGIN:VEVENT
DTSTART:20161022T160000Z
DTEND:20161022T200000Z
X-MICROSOFT-CDO-ALLDAYEVENT:FALSE
SUMMARY:Mutt Strut
DESCRIPTION:Our 13th annual Mutt Strut is approaching fast! Please join us Saturday\, October 22nd\, from 11:00 am - 3:00 pm\, with the walk kicking off at 1:00 pm. Meet us at Southport Avenue & Newport Avenue in the beautiful Lakeview neighborhood! Registration is NOW OPEN: http://bit.ly/2bD1KJX All proceeds benefit Chicago Canine Rescue\, please help us help the pups  3 If you're interested in learning more\, please email muttstrut@chicagocaninerescue.com
X-ALT-DESC;FMTTYPE=text/html:Our 13th annual Mutt Strut is approaching fast! Please join us Saturday\, October 22nd\, from 11:00 am - 3:00 pm\, with the walk kicking off at 1:00 pm. Meet us at Southport Avenue &amp\; Newport Avenue in the beautiful Lakeview neighborhood! Registration is NOW OPEN: http://bit.ly/2bD1KJX All proceeds benefit Chicago Canine Rescue\, please help us help the pups &lt\;3 If you&#39\;re interested in learning more\, please email muttstrut@chicagocaninerescue.com
LOCATION:In Southport Corridor\, on the corner of Southport Avenue and Newport Avenue 1350 W. Newport Ave\, Chicago\, IL 60657
UID:e.1819.3588
SEQUENCE:3
DTSTAMP:20260422T084431Z
URL:https://members.lakeviewroscoevillage.org/events/details/mutt-strut-10-22-2016-3588
END:VEVENT

END:VCALENDAR
